BEGIN:VCALENDAR
VERSION:2.0
PRODID:-//HealthFit - ECPv6.15.20//NONSGML v1.0//EN
CALSCALE:GREGORIAN
METHOD:PUBLISH
X-ORIGINAL-URL:https://www.smhfit.com
X-WR-CALDESC:Events for HealthFit
REFRESH-INTERVAL;VALUE=DURATION:PT1H
X-Robots-Tag:noindex
X-PUBLISHED-TTL:PT1H
BEGIN:VTIMEZONE
TZID:America/New_York
BEGIN:DAYLIGHT
TZOFFSETFROM:-0500
TZOFFSETTO:-0400
TZNAME:EDT
DTSTART:20240310T070000
END:DAYLIGHT
BEGIN:STANDARD
TZOFFSETFROM:-0400
TZOFFSETTO:-0500
TZNAME:EST
DTSTART:20241103T060000
END:STANDARD
BEGIN:DAYLIGHT
TZOFFSETFROM:-0500
TZOFFSETTO:-0400
TZNAME:EDT
DTSTART:20250309T070000
END:DAYLIGHT
BEGIN:STANDARD
TZOFFSETFROM:-0400
TZOFFSETTO:-0500
TZNAME:EST
DTSTART:20251102T060000
END:STANDARD
BEGIN:DAYLIGHT
TZOFFSETFROM:-0500
TZOFFSETTO:-0400
TZNAME:EDT
DTSTART:20260308T070000
END:DAYLIGHT
BEGIN:STANDARD
TZOFFSETFROM:-0400
TZOFFSETTO:-0500
TZNAME:EST
DTSTART:20261101T060000
END:STANDARD
END:VTIMEZONE
BEGIN:VEVENT
DTSTART;TZID=America/New_York:20250903T160000
DTEND;TZID=America/New_York:20250903T170000
DTSTAMP:20260421T015000
CREATED:20250901T042033Z
LAST-MODIFIED:20250901T042033Z
UID:10014331-1756915200-1756918800@www.smhfit.com
SUMMARY:HIIT & Core
DESCRIPTION:
URL:https://www.smhfit.com/event/hiit-core-166/
END:VEVENT
BEGIN:VEVENT
DTSTART;TZID=America/New_York:20250903T170000
DTEND;TZID=America/New_York:20250903T180000
DTSTAMP:20260421T015000
CREATED:20250901T042027Z
LAST-MODIFIED:20250901T042027Z
UID:10014330-1756918800-1756922400@www.smhfit.com
SUMMARY:Gentle Yoga
DESCRIPTION:
URL:https://www.smhfit.com/event/gentle-yoga-59/
END:VEVENT
BEGIN:VEVENT
DTSTART;TZID=America/New_York:20250903T173000
DTEND;TZID=America/New_York:20250903T183000
DTSTAMP:20260421T015000
CREATED:20250901T042042Z
LAST-MODIFIED:20250901T042042Z
UID:10014332-1756920600-1756924200@www.smhfit.com
SUMMARY:Powerplex
DESCRIPTION:
URL:https://www.smhfit.com/event/powerplex-106/
END:VEVENT
BEGIN:VEVENT
DTSTART;TZID=America/New_York:20250904T080000
DTEND;TZID=America/New_York:20250904T090000
DTSTAMP:20260421T015000
CREATED:20250901T042045Z
LAST-MODIFIED:20250901T042045Z
UID:10014333-1756972800-1756976400@www.smhfit.com
SUMMARY:Body Barre
DESCRIPTION:
URL:https://www.smhfit.com/event/body-barre-116/
END:VEVENT
BEGIN:VEVENT
DTSTART;TZID=America/New_York:20250904T090000
DTEND;TZID=America/New_York:20250904T100000
DTSTAMP:20260421T015000
CREATED:20250901T042047Z
LAST-MODIFIED:20250901T042047Z
UID:10014334-1756976400-1756980000@www.smhfit.com
SUMMARY:Zumba
DESCRIPTION:
URL:https://www.smhfit.com/event/zumba-142/
END:VEVENT
BEGIN:VEVENT
DTSTART;TZID=America/New_York:20250904T090000
DTEND;TZID=America/New_York:20250904T100000
DTSTAMP:20260421T015000
CREATED:20250901T042053Z
LAST-MODIFIED:20250901T042053Z
UID:10014335-1756976400-1756980000@www.smhfit.com
SUMMARY:Spin
DESCRIPTION:
URL:https://www.smhfit.com/event/spin-783/
END:VEVENT
BEGIN:VEVENT
DTSTART;TZID=America/New_York:20250904T100000
DTEND;TZID=America/New_York:20250904T110000
DTSTAMP:20260421T015000
CREATED:20250901T042057Z
LAST-MODIFIED:20250901T042057Z
UID:10014336-1756980000-1756983600@www.smhfit.com
SUMMARY:Aqua Challenge
DESCRIPTION:Aquatic Class
URL:https://www.smhfit.com/event/aqua-challenge-616/
END:VEVENT
BEGIN:VEVENT
DTSTART;TZID=America/New_York:20250904T100000
DTEND;TZID=America/New_York:20250904T110000
DTSTAMP:20260421T015000
CREATED:20250901T042110Z
LAST-MODIFIED:20250901T042110Z
UID:10014337-1756980000-1756983600@www.smhfit.com
SUMMARY:Total Body Tone
DESCRIPTION:
URL:https://www.smhfit.com/event/total-body-tone-217/
END:VEVENT
BEGIN:VEVENT
DTSTART;TZID=America/New_York:20250904T100000
DTEND;TZID=America/New_York:20250904T110000
DTSTAMP:20260421T015000
CREATED:20250901T042113Z
LAST-MODIFIED:20250901T042113Z
UID:10014338-1756980000-1756983600@www.smhfit.com
SUMMARY:Proactive Aging
DESCRIPTION:
URL:https://www.smhfit.com/event/proactive-aging-84/
END:VEVENT
BEGIN:VEVENT
DTSTART;TZID=America/New_York:20250904T160000
DTEND;TZID=America/New_York:20250904T170000
DTSTAMP:20260421T015000
CREATED:20250901T042124Z
LAST-MODIFIED:20250901T042124Z
UID:10014340-1757001600-1757005200@www.smhfit.com
SUMMARY:Cardio Sculpt
DESCRIPTION:
URL:https://www.smhfit.com/event/cardio-sculpt-115/
END:VEVENT
BEGIN:VEVENT
DTSTART;TZID=America/New_York:20250904T160000
DTEND;TZID=America/New_York:20250904T170000
DTSTAMP:20260421T015000
CREATED:20250901T042125Z
LAST-MODIFIED:20250901T042125Z
UID:10014341-1757001600-1757005200@www.smhfit.com
SUMMARY:Yin Yoga
DESCRIPTION:
URL:https://www.smhfit.com/event/yin-yoga-22/
END:VEVENT
BEGIN:VEVENT
DTSTART;TZID=America/New_York:20250904T170000
DTEND;TZID=America/New_York:20250904T180000
DTSTAMP:20260421T015000
CREATED:20250901T042135Z
LAST-MODIFIED:20250901T042135Z
UID:10014342-1757005200-1757008800@www.smhfit.com
SUMMARY:Mat Pilates
DESCRIPTION:
URL:https://www.smhfit.com/event/mat-pilates-189/
END:VEVENT
BEGIN:VEVENT
DTSTART;TZID=America/New_York:20250904T180000
DTEND;TZID=America/New_York:20250904T190000
DTSTAMP:20260421T015000
CREATED:20250901T042114Z
LAST-MODIFIED:20250901T042114Z
UID:10014339-1757008800-1757012400@www.smhfit.com
SUMMARY:Aqua Pilates
DESCRIPTION:Aquatic Class
URL:https://www.smhfit.com/event/aqua-pilates-175/
END:VEVENT
BEGIN:VEVENT
DTSTART;TZID=America/New_York:20250905T080000
DTEND;TZID=America/New_York:20250905T090000
DTSTAMP:20260421T015000
CREATED:20250901T042139Z
LAST-MODIFIED:20250901T042139Z
UID:10014343-1757059200-1757062800@www.smhfit.com
SUMMARY:Vinyasa Flow
DESCRIPTION:
URL:https://www.smhfit.com/event/vinyasa-flow-166/
END:VEVENT
BEGIN:VEVENT
DTSTART;TZID=America/New_York:20250905T080000
DTEND;TZID=America/New_York:20250905T090000
DTSTAMP:20260421T015000
CREATED:20250901T042146Z
LAST-MODIFIED:20250901T042146Z
UID:10014344-1757059200-1757062800@www.smhfit.com
SUMMARY:Balance&Stretch
DESCRIPTION:
URL:https://www.smhfit.com/event/balancestretch-218/
END:VEVENT
BEGIN:VEVENT
DTSTART;TZID=America/New_York:20250905T090000
DTEND;TZID=America/New_York:20250905T100000
DTSTAMP:20260421T015000
CREATED:20250901T042150Z
LAST-MODIFIED:20250901T042150Z
UID:10014345-1757062800-1757066400@www.smhfit.com
SUMMARY:Spin
DESCRIPTION:
URL:https://www.smhfit.com/event/spin-784/
END:VEVENT
BEGIN:VEVENT
DTSTART;TZID=America/New_York:20250905T090000
DTEND;TZID=America/New_York:20250905T100000
DTSTAMP:20260421T015000
CREATED:20250901T042155Z
LAST-MODIFIED:20250901T042155Z
UID:10014346-1757062800-1757066400@www.smhfit.com
SUMMARY:Ageless Athletes
DESCRIPTION:
URL:https://www.smhfit.com/event/ageless-athletes-73/
END:VEVENT
BEGIN:VEVENT
DTSTART;TZID=America/New_York:20250905T100000
DTEND;TZID=America/New_York:20250905T110000
DTSTAMP:20260421T015000
CREATED:20250901T042206Z
LAST-MODIFIED:20250901T042206Z
UID:10014347-1757066400-1757070000@www.smhfit.com
SUMMARY:Step & Strength
DESCRIPTION:
URL:https://www.smhfit.com/event/step-strength-72/
END:VEVENT
BEGIN:VEVENT
DTSTART;TZID=America/New_York:20250905T100000
DTEND;TZID=America/New_York:20250905T110000
DTSTAMP:20260421T015000
CREATED:20250901T042214Z
LAST-MODIFIED:20250901T042214Z
UID:10014348-1757066400-1757070000@www.smhfit.com
SUMMARY:Aqua Challenge
DESCRIPTION:
URL:https://www.smhfit.com/event/aqua-challenge-617/
END:VEVENT
BEGIN:VEVENT
DTSTART;TZID=America/New_York:20250905T110000
DTEND;TZID=America/New_York:20250905T120000
DTSTAMP:20260421T015000
CREATED:20250901T042218Z
LAST-MODIFIED:20250901T042218Z
UID:10014349-1757070000-1757073600@www.smhfit.com
SUMMARY:AquaZen
DESCRIPTION:Aquatics Class
URL:https://www.smhfit.com/event/aquazen-63/
END:VEVENT
BEGIN:VEVENT
DTSTART;TZID=America/New_York:20250905T110000
DTEND;TZID=America/New_York:20250905T120000
DTSTAMP:20260421T015000
CREATED:20250901T042219Z
LAST-MODIFIED:20250901T042219Z
UID:10011945-1757070000-1757073600@www.smhfit.com
SUMMARY:Multi-Level Yoga
DESCRIPTION:
URL:https://www.smhfit.com/event/multi-level-yoga-64/
END:VEVENT
BEGIN:VEVENT
DTSTART;TZID=America/New_York:20250905T110000
DTEND;TZID=America/New_York:20250905T120000
DTSTAMP:20260421T015000
CREATED:20250901T042220Z
LAST-MODIFIED:20250901T042220Z
UID:10011946-1757070000-1757073600@www.smhfit.com
SUMMARY:Rock Steady Boxing
DESCRIPTION:
URL:https://www.smhfit.com/event/rock-steady-boxing-78/
END:VEVENT
BEGIN:VEVENT
DTSTART;TZID=America/New_York:20250905T120000
DTEND;TZID=America/New_York:20250905T130000
DTSTAMP:20260421T015000
CREATED:20250901T042234Z
LAST-MODIFIED:20250901T042234Z
UID:10011947-1757073600-1757077200@www.smhfit.com
SUMMARY:PWR! Gym
DESCRIPTION:
URL:https://www.smhfit.com/event/pwr-gym-77/
END:VEVENT
BEGIN:VEVENT
DTSTART;TZID=America/New_York:20250905T140000
DTEND;TZID=America/New_York:20250905T150000
DTSTAMP:20260421T015000
CREATED:20250901T042241Z
LAST-MODIFIED:20250901T042241Z
UID:10011948-1757080800-1757084400@www.smhfit.com
SUMMARY:Oncology Recovery Exercise
DESCRIPTION:
URL:https://www.smhfit.com/event/oncology-recovery-exercise-186/
END:VEVENT
BEGIN:VEVENT
DTSTART;TZID=America/New_York:20250906T090000
DTEND;TZID=America/New_York:20250906T100000
DTSTAMP:20260421T015000
CREATED:20250901T042249Z
LAST-MODIFIED:20250901T042249Z
UID:10011949-1757149200-1757152800@www.smhfit.com
SUMMARY:Spin
DESCRIPTION:
URL:https://www.smhfit.com/event/spin-785/
END:VEVENT
BEGIN:VEVENT
DTSTART;TZID=America/New_York:20250906T090000
DTEND;TZID=America/New_York:20250906T100000
DTSTAMP:20260421T015000
CREATED:20250901T042250Z
LAST-MODIFIED:20250901T042250Z
UID:10011950-1757149200-1757152800@www.smhfit.com
SUMMARY:HIIT & Core
DESCRIPTION:
URL:https://www.smhfit.com/event/hiit-core-167/
END:VEVENT
BEGIN:VEVENT
DTSTART;TZID=America/New_York:20250906T100000
DTEND;TZID=America/New_York:20250906T110000
DTSTAMP:20260421T015000
CREATED:20250901T042251Z
LAST-MODIFIED:20250901T042251Z
UID:10011951-1757152800-1757156400@www.smhfit.com
SUMMARY:Yoga
DESCRIPTION:
URL:https://www.smhfit.com/event/yoga-155/
END:VEVENT
BEGIN:VEVENT
DTSTART;TZID=America/New_York:20250906T100000
DTEND;TZID=America/New_York:20250906T110000
DTSTAMP:20260421T015000
CREATED:20250901T042306Z
LAST-MODIFIED:20250901T042306Z
UID:10011952-1757152800-1757156400@www.smhfit.com
SUMMARY:Aqua Challenge
DESCRIPTION:Aquatic Class
URL:https://www.smhfit.com/event/aqua-challenge-618/
END:VEVENT
BEGIN:VEVENT
DTSTART;TZID=America/New_York:20250906T110000
DTEND;TZID=America/New_York:20250906T120000
DTSTAMP:20260421T015000
CREATED:20250901T042308Z
LAST-MODIFIED:20250901T042308Z
UID:10011953-1757156400-1757160000@www.smhfit.com
SUMMARY:Oncology Qi Gong
DESCRIPTION:
URL:https://www.smhfit.com/event/oncology-qi-gong-108/
END:VEVENT
BEGIN:VEVENT
DTSTART;TZID=America/New_York:20250908T080000
DTEND;TZID=America/New_York:20250908T090000
DTSTAMP:20260421T015000
CREATED:20250901T042309Z
LAST-MODIFIED:20250901T042309Z
UID:10011954-1757318400-1757322000@www.smhfit.com
SUMMARY:Balance&Stretch
DESCRIPTION:
URL:https://www.smhfit.com/event/balancestretch-219/
END:VEVENT
END:VCALENDAR