BEGIN:VCALENDAR
VERSION:2.0
PRODID:-//HealthFit - ECPv6.15.20//NONSGML v1.0//EN
CALSCALE:GREGORIAN
METHOD:PUBLISH
X-ORIGINAL-URL:https://www.smhfit.com
X-WR-CALDESC:Events for HealthFit
REFRESH-INTERVAL;VALUE=DURATION:PT1H
X-Robots-Tag:noindex
X-PUBLISHED-TTL:PT1H
BEGIN:VTIMEZONE
TZID:America/Halifax
BEGIN:DAYLIGHT
TZOFFSETFROM:-0400
TZOFFSETTO:-0300
TZNAME:ADT
DTSTART:20230312T060000
END:DAYLIGHT
BEGIN:STANDARD
TZOFFSETFROM:-0300
TZOFFSETTO:-0400
TZNAME:AST
DTSTART:20231105T050000
END:STANDARD
BEGIN:DAYLIGHT
TZOFFSETFROM:-0400
TZOFFSETTO:-0300
TZNAME:ADT
DTSTART:20240310T060000
END:DAYLIGHT
BEGIN:STANDARD
TZOFFSETFROM:-0300
TZOFFSETTO:-0400
TZNAME:AST
DTSTART:20241103T050000
END:STANDARD
BEGIN:DAYLIGHT
TZOFFSETFROM:-0400
TZOFFSETTO:-0300
TZNAME:ADT
DTSTART:20250309T060000
END:DAYLIGHT
BEGIN:STANDARD
TZOFFSETFROM:-0300
TZOFFSETTO:-0400
TZNAME:AST
DTSTART:20251102T050000
END:STANDARD
END:VTIMEZONE
BEGIN:VEVENT
DTSTART;TZID=America/Halifax:20240421T100000
DTEND;TZID=America/Halifax:20240421T110000
DTSTAMP:20260420T214052
CREATED:20240326T150006Z
LAST-MODIFIED:20240326T150006Z
UID:10011000-1713693600-1713697200@www.smhfit.com
SUMMARY:Total Body Tone
DESCRIPTION:
URL:https://www.smhfit.com/event/total-body-tone-119/
END:VEVENT
BEGIN:VEVENT
DTSTART;TZID=America/Halifax:20240421T100000
DTEND;TZID=America/Halifax:20240421T110000
DTSTAMP:20260420T214052
CREATED:20240326T150007Z
LAST-MODIFIED:20240326T150007Z
UID:10011002-1713693600-1713697200@www.smhfit.com
SUMMARY:Qi Gong
DESCRIPTION:
URL:https://www.smhfit.com/event/qi-gong-57/
END:VEVENT
BEGIN:VEVENT
DTSTART;TZID=America/Halifax:20240421T110000
DTEND;TZID=America/Halifax:20240421T120000
DTSTAMP:20260420T214052
CREATED:20240326T150008Z
LAST-MODIFIED:20240326T150008Z
UID:10011004-1713697200-1713700800@www.smhfit.com
SUMMARY:Low Int Gyrokinesis
DESCRIPTION:
URL:https://www.smhfit.com/event/low-int-gyrokinesis-18/
END:VEVENT
BEGIN:VEVENT
DTSTART;TZID=America/Halifax:20240421T110000
DTEND;TZID=America/Halifax:20240421T120000
DTSTAMP:20260420T214052
CREATED:20240326T150010Z
LAST-MODIFIED:20240326T150010Z
UID:10011006-1713697200-1713700800@www.smhfit.com
SUMMARY:Therapeutic Splash
DESCRIPTION:Aquatic Class
URL:https://www.smhfit.com/event/therapeutic-splash-118/
END:VEVENT
BEGIN:VEVENT
DTSTART;TZID=America/Halifax:20240421T110000
DTEND;TZID=America/Halifax:20240421T120000
DTSTAMP:20260420T214052
CREATED:20240326T150019Z
LAST-MODIFIED:20240326T150019Z
UID:10011008-1713697200-1713700800@www.smhfit.com
SUMMARY:Mat Pilates
DESCRIPTION:
URL:https://www.smhfit.com/event/mat-pilates-111/
END:VEVENT
BEGIN:VEVENT
DTSTART;TZID=America/Halifax:20240421T130000
DTEND;TZID=America/Halifax:20240421T133000
DTSTAMP:20260420T214052
CREATED:20240326T150020Z
LAST-MODIFIED:20240326T150020Z
UID:10011010-1713704400-1713706200@www.smhfit.com
SUMMARY:Whopping Movers
DESCRIPTION:
URL:https://www.smhfit.com/event/whopping-movers-166/
END:VEVENT
BEGIN:VEVENT
DTSTART;TZID=America/Halifax:20240421T160000
DTEND;TZID=America/Halifax:20240421T170000
DTSTAMP:20260420T214052
CREATED:20240326T150021Z
LAST-MODIFIED:20240326T150021Z
UID:10011012-1713715200-1713718800@www.smhfit.com
SUMMARY:Body Barre
DESCRIPTION:
URL:https://www.smhfit.com/event/body-barre-7/
END:VEVENT
BEGIN:VEVENT
DTSTART;TZID=America/Halifax:20240421T170000
DTEND;TZID=America/Halifax:20240421T180000
DTSTAMP:20260420T214052
CREATED:20240326T150023Z
LAST-MODIFIED:20240326T150023Z
UID:10011014-1713718800-1713722400@www.smhfit.com
SUMMARY:Spin Speed
DESCRIPTION:
URL:https://www.smhfit.com/event/spin-speed-4/
END:VEVENT
BEGIN:VEVENT
DTSTART;TZID=America/Halifax:20240421T170000
DTEND;TZID=America/Halifax:20240421T180000
DTSTAMP:20260420T214052
CREATED:20240326T150024Z
LAST-MODIFIED:20240326T150024Z
UID:10011016-1713718800-1713722400@www.smhfit.com
SUMMARY:Fundamental Yoga
DESCRIPTION:
URL:https://www.smhfit.com/event/fundamental-yoga-39/
END:VEVENT
BEGIN:VEVENT
DTSTART;TZID=America/Halifax:20240421T173000
DTEND;TZID=America/Halifax:20240421T183000
DTSTAMP:20260420T214052
CREATED:20240326T150035Z
LAST-MODIFIED:20240326T150035Z
UID:10011020-1713720600-1713724200@www.smhfit.com
SUMMARY:Aqua Tone
DESCRIPTION:Aquatic Class
URL:https://www.smhfit.com/event/aqua-tone-48/
END:VEVENT
BEGIN:VEVENT
DTSTART;TZID=America/Halifax:20240421T174500
DTEND;TZID=America/Halifax:20240421T183000
DTSTAMP:20260420T214052
CREATED:20240326T150034Z
LAST-MODIFIED:20240326T150034Z
UID:10011018-1713721500-1713724200@www.smhfit.com
SUMMARY:SHRED
DESCRIPTION:
URL:https://www.smhfit.com/event/shred-75/
END:VEVENT
BEGIN:VEVENT
DTSTART;TZID=America/Halifax:20240422T060000
DTEND;TZID=America/Halifax:20240422T070000
DTSTAMP:20260420T214052
CREATED:20240326T150036Z
LAST-MODIFIED:20240326T150036Z
UID:10011021-1713765600-1713769200@www.smhfit.com
SUMMARY:Spin
DESCRIPTION:
URL:https://www.smhfit.com/event/spin-489/
END:VEVENT
BEGIN:VEVENT
DTSTART;TZID=America/Halifax:20240422T080000
DTEND;TZID=America/Halifax:20240422T090000
DTSTAMP:20260420T214052
CREATED:20240326T150038Z
LAST-MODIFIED:20240326T150038Z
UID:10011022-1713772800-1713776400@www.smhfit.com
SUMMARY:Vinyasa Flow
DESCRIPTION:
URL:https://www.smhfit.com/event/vinyasa-flow-100/
END:VEVENT
BEGIN:VEVENT
DTSTART;TZID=America/Halifax:20240422T080000
DTEND;TZID=America/Halifax:20240422T090000
DTSTAMP:20260420T214052
CREATED:20240326T150041Z
LAST-MODIFIED:20240326T150041Z
UID:10011023-1713772800-1713776400@www.smhfit.com
SUMMARY:BodyFit
DESCRIPTION:
URL:https://www.smhfit.com/event/bodyfit-61/
END:VEVENT
BEGIN:VEVENT
DTSTART;TZID=America/Halifax:20240422T090000
DTEND;TZID=America/Halifax:20240422T100000
DTSTAMP:20260420T214052
CREATED:20240326T150049Z
LAST-MODIFIED:20240326T150049Z
UID:10011024-1713776400-1713780000@www.smhfit.com
SUMMARY:Mat Pilates
DESCRIPTION:
URL:https://www.smhfit.com/event/mat-pilates-112/
END:VEVENT
BEGIN:VEVENT
DTSTART;TZID=America/Halifax:20240422T090000
DTEND;TZID=America/Halifax:20240422T100000
DTSTAMP:20260420T214052
CREATED:20240326T150050Z
LAST-MODIFIED:20240326T150050Z
UID:10011025-1713776400-1713780000@www.smhfit.com
SUMMARY:Spin
DESCRIPTION:
URL:https://www.smhfit.com/event/spin-490/
END:VEVENT
BEGIN:VEVENT
DTSTART;TZID=America/Halifax:20240422T090000
DTEND;TZID=America/Halifax:20240422T110000
DTSTAMP:20260420T214052
CREATED:20240326T150052Z
LAST-MODIFIED:20240326T150052Z
UID:10011026-1713776400-1713783600@www.smhfit.com
SUMMARY:TRX
DESCRIPTION:
URL:https://www.smhfit.com/event/trx-89/
END:VEVENT
BEGIN:VEVENT
DTSTART;TZID=America/Halifax:20240422T100000
DTEND;TZID=America/Halifax:20240422T110000
DTSTAMP:20260420T214052
CREATED:20240326T150053Z
LAST-MODIFIED:20240326T150053Z
UID:10011027-1713780000-1713783600@www.smhfit.com
SUMMARY:Aqua Challenge
DESCRIPTION:
URL:https://www.smhfit.com/event/aqua-challenge-355/
END:VEVENT
BEGIN:VEVENT
DTSTART;TZID=America/Halifax:20240422T100000
DTEND;TZID=America/Halifax:20240422T110000
DTSTAMP:20260420T214052
CREATED:20240326T150055Z
LAST-MODIFIED:20240326T150055Z
UID:10011028-1713780000-1713783600@www.smhfit.com
SUMMARY:Oncology Recovery Exercise
DESCRIPTION:
URL:https://www.smhfit.com/event/oncology-recovery-exercise-92/
END:VEVENT
BEGIN:VEVENT
DTSTART;TZID=America/Halifax:20240422T110000
DTEND;TZID=America/Halifax:20240422T120000
DTSTAMP:20260420T214052
CREATED:20240326T150104Z
LAST-MODIFIED:20240326T150104Z
UID:10011029-1713783600-1713787200@www.smhfit.com
SUMMARY:Therapeutic Yoga
DESCRIPTION:Aquatic Class
URL:https://www.smhfit.com/event/therapeutic-yoga-61/
END:VEVENT
BEGIN:VEVENT
DTSTART;TZID=America/Halifax:20240422T120000
DTEND;TZID=America/Halifax:20240422T130000
DTSTAMP:20260420T214052
CREATED:20240326T150105Z
LAST-MODIFIED:20240326T150105Z
UID:10011030-1713787200-1713790800@www.smhfit.com
SUMMARY:FUNctional Fitness
DESCRIPTION:
URL:https://www.smhfit.com/event/functional-fitness-70/
END:VEVENT
BEGIN:VEVENT
DTSTART;TZID=America/Halifax:20240422T160000
DTEND;TZID=America/Halifax:20240422T170000
DTSTAMP:20260420T214052
CREATED:20240326T150106Z
LAST-MODIFIED:20240326T150106Z
UID:10011032-1713801600-1713805200@www.smhfit.com
SUMMARY:Gentle Yoga
DESCRIPTION:
URL:https://www.smhfit.com/event/gentle-yoga-7/
END:VEVENT
BEGIN:VEVENT
DTSTART;TZID=America/Halifax:20240422T160000
DTEND;TZID=America/Halifax:20240422T170000
DTSTAMP:20260420T214052
CREATED:20240326T150107Z
LAST-MODIFIED:20240326T150107Z
UID:10011034-1713801600-1713805200@www.smhfit.com
SUMMARY:HIIT & Core
DESCRIPTION:
URL:https://www.smhfit.com/event/hiit-core-66/
END:VEVENT
BEGIN:VEVENT
DTSTART;TZID=America/Halifax:20240422T173000
DTEND;TZID=America/Halifax:20240422T183000
DTSTAMP:20260420T214052
CREATED:20240326T150109Z
LAST-MODIFIED:20240326T150109Z
UID:10011062-1713807000-1713810600@www.smhfit.com
SUMMARY:Powerplex
DESCRIPTION:
URL:https://www.smhfit.com/event/powerplex-61/
END:VEVENT
BEGIN:VEVENT
DTSTART;TZID=America/Halifax:20240423T080000
DTEND;TZID=America/Halifax:20240423T090000
DTSTAMP:20260420T214052
CREATED:20240326T150119Z
LAST-MODIFIED:20240326T150119Z
UID:10011064-1713859200-1713862800@www.smhfit.com
SUMMARY:Body Barre
DESCRIPTION:
URL:https://www.smhfit.com/event/body-barre-8/
END:VEVENT
BEGIN:VEVENT
DTSTART;TZID=America/Halifax:20240423T090000
DTEND;TZID=America/Halifax:20240423T100000
DTSTAMP:20260420T214052
CREATED:20240326T150121Z
LAST-MODIFIED:20240326T150121Z
UID:10011065-1713862800-1713866400@www.smhfit.com
SUMMARY:Chair Yoga
DESCRIPTION:
URL:https://www.smhfit.com/event/chair-yoga-119/
END:VEVENT
BEGIN:VEVENT
DTSTART;TZID=America/Halifax:20240423T090000
DTEND;TZID=America/Halifax:20240423T100000
DTSTAMP:20260420T214052
CREATED:20240326T150122Z
LAST-MODIFIED:20240326T150122Z
UID:10011066-1713862800-1713866400@www.smhfit.com
SUMMARY:Spin
DESCRIPTION:
URL:https://www.smhfit.com/event/spin-491/
END:VEVENT
BEGIN:VEVENT
DTSTART;TZID=America/Halifax:20240423T100000
DTEND;TZID=America/Halifax:20240423T110000
DTSTAMP:20260420T214052
CREATED:20240326T150125Z
LAST-MODIFIED:20240326T150125Z
UID:10009607-1713866400-1713870000@www.smhfit.com
SUMMARY:Aqua Challenge
DESCRIPTION:Aquatic Class
URL:https://www.smhfit.com/event/aqua-challenge-356/
END:VEVENT
BEGIN:VEVENT
DTSTART;TZID=America/Halifax:20240423T100000
DTEND;TZID=America/Halifax:20240423T110000
DTSTAMP:20260420T214052
CREATED:20240326T150126Z
LAST-MODIFIED:20240326T150126Z
UID:10009609-1713866400-1713870000@www.smhfit.com
SUMMARY:Total Body Tone
DESCRIPTION:
URL:https://www.smhfit.com/event/total-body-tone-120/
END:VEVENT
BEGIN:VEVENT
DTSTART;TZID=America/Halifax:20240423T100000
DTEND;TZID=America/Halifax:20240423T110000
DTSTAMP:20260420T214052
CREATED:20240326T150134Z
LAST-MODIFIED:20240326T150134Z
UID:10009611-1713866400-1713870000@www.smhfit.com
SUMMARY:Therapeutic Splash
DESCRIPTION:Aquatic Class
URL:https://www.smhfit.com/event/therapeutic-splash-119/
END:VEVENT
END:VCALENDAR