BEGIN:VCALENDAR
VERSION:2.0
PRODID:-//HealthFit - ECPv6.15.20//NONSGML v1.0//EN
CALSCALE:GREGORIAN
METHOD:PUBLISH
X-ORIGINAL-URL:https://www.smhfit.com
X-WR-CALDESC:Events for HealthFit
REFRESH-INTERVAL;VALUE=DURATION:PT1H
X-Robots-Tag:noindex
X-PUBLISHED-TTL:PT1H
BEGIN:VTIMEZONE
TZID:America/Halifax
BEGIN:DAYLIGHT
TZOFFSETFROM:-0400
TZOFFSETTO:-0300
TZNAME:ADT
DTSTART:20230312T060000
END:DAYLIGHT
BEGIN:STANDARD
TZOFFSETFROM:-0300
TZOFFSETTO:-0400
TZNAME:AST
DTSTART:20231105T050000
END:STANDARD
BEGIN:DAYLIGHT
TZOFFSETFROM:-0400
TZOFFSETTO:-0300
TZNAME:ADT
DTSTART:20240310T060000
END:DAYLIGHT
BEGIN:STANDARD
TZOFFSETFROM:-0300
TZOFFSETTO:-0400
TZNAME:AST
DTSTART:20241103T050000
END:STANDARD
BEGIN:DAYLIGHT
TZOFFSETFROM:-0400
TZOFFSETTO:-0300
TZNAME:ADT
DTSTART:20250309T060000
END:DAYLIGHT
BEGIN:STANDARD
TZOFFSETFROM:-0300
TZOFFSETTO:-0400
TZNAME:AST
DTSTART:20251102T050000
END:STANDARD
END:VTIMEZONE
BEGIN:VEVENT
DTSTART;TZID=America/Halifax:20240503T140000
DTEND;TZID=America/Halifax:20240503T150000
DTSTAMP:20260420T152500
CREATED:20240430T185807Z
LAST-MODIFIED:20240430T185807Z
UID:10011183-1714744800-1714748400@www.smhfit.com
SUMMARY:Oncology Recovery Exercise
DESCRIPTION:
URL:https://www.smhfit.com/event/oncology-recovery-exercise-96/
END:VEVENT
BEGIN:VEVENT
DTSTART;TZID=America/Halifax:20240503T180000
DTEND;TZID=America/Halifax:20240503T190000
DTSTAMP:20260420T152500
CREATED:20240430T185809Z
LAST-MODIFIED:20240430T185809Z
UID:10011185-1714759200-1714762800@www.smhfit.com
SUMMARY:Aqua Pilates
DESCRIPTION:Aquatic Class
URL:https://www.smhfit.com/event/aqua-pilates-80/
END:VEVENT
BEGIN:VEVENT
DTSTART;TZID=America/Halifax:20240504T090000
DTEND;TZID=America/Halifax:20240504T100000
DTSTAMP:20260420T152500
CREATED:20240430T185810Z
LAST-MODIFIED:20240430T185810Z
UID:10011187-1714813200-1714816800@www.smhfit.com
SUMMARY:Spin
DESCRIPTION:
URL:https://www.smhfit.com/event/spin-503/
END:VEVENT
BEGIN:VEVENT
DTSTART;TZID=America/Halifax:20240504T090000
DTEND;TZID=America/Halifax:20240504T100000
DTSTAMP:20260420T152500
CREATED:20240430T185811Z
LAST-MODIFIED:20240430T185811Z
UID:10011189-1714813200-1714816800@www.smhfit.com
SUMMARY:HIIT & Core
DESCRIPTION:
URL:https://www.smhfit.com/event/hiit-core-70/
END:VEVENT
BEGIN:VEVENT
DTSTART;TZID=America/Halifax:20240504T100000
DTEND;TZID=America/Halifax:20240504T110000
DTSTAMP:20260420T152500
CREATED:20240430T185812Z
LAST-MODIFIED:20240430T185812Z
UID:10011191-1714816800-1714820400@www.smhfit.com
SUMMARY:Yoga
DESCRIPTION:
URL:https://www.smhfit.com/event/yoga-116/
END:VEVENT
BEGIN:VEVENT
DTSTART;TZID=America/Halifax:20240504T100000
DTEND;TZID=America/Halifax:20240504T110000
DTSTAMP:20260420T152500
CREATED:20240430T185822Z
LAST-MODIFIED:20240430T185822Z
UID:10011193-1714816800-1714820400@www.smhfit.com
SUMMARY:Aqua Challenge
DESCRIPTION:Aquatic Class
URL:https://www.smhfit.com/event/aqua-challenge-366/
END:VEVENT
BEGIN:VEVENT
DTSTART;TZID=America/Halifax:20240504T110000
DTEND;TZID=America/Halifax:20240504T120000
DTSTAMP:20260420T152500
CREATED:20240430T185823Z
LAST-MODIFIED:20240430T185823Z
UID:10011195-1714820400-1714824000@www.smhfit.com
SUMMARY:Oncology Qi Gong
DESCRIPTION:
URL:https://www.smhfit.com/event/oncology-qi-gong-62/
END:VEVENT
BEGIN:VEVENT
DTSTART;TZID=America/Halifax:20240506T000000
DTEND;TZID=America/Halifax:20240506T130000
DTSTAMP:20260420T152500
CREATED:20240430T190026Z
LAST-MODIFIED:20240430T190026Z
UID:10009685-1714953600-1715000400@www.smhfit.com
SUMMARY:FUNctional Fitness
DESCRIPTION:
URL:https://www.smhfit.com/event/functional-fitness-73/
END:VEVENT
BEGIN:VEVENT
DTSTART;TZID=America/Halifax:20240506T060000
DTEND;TZID=America/Halifax:20240506T070000
DTSTAMP:20260420T152500
CREATED:20240430T185824Z
LAST-MODIFIED:20240430T185824Z
UID:10011197-1714975200-1714978800@www.smhfit.com
SUMMARY:Bar & Burn
DESCRIPTION:
URL:https://www.smhfit.com/event/bar-burn-9/
END:VEVENT
BEGIN:VEVENT
DTSTART;TZID=America/Halifax:20240506T080000
DTEND;TZID=America/Halifax:20240506T090000
DTSTAMP:20260420T152500
CREATED:20240430T185825Z
LAST-MODIFIED:20240430T185825Z
UID:10011198-1714982400-1714986000@www.smhfit.com
SUMMARY:Balance&Stretch
DESCRIPTION:
URL:https://www.smhfit.com/event/balancestretch-126/
END:VEVENT
BEGIN:VEVENT
DTSTART;TZID=America/Halifax:20240506T090000
DTEND;TZID=America/Halifax:20240506T094500
DTSTAMP:20260420T152500
CREATED:20240430T190022Z
LAST-MODIFIED:20240430T190022Z
UID:10011200-1714986000-1714988700@www.smhfit.com
SUMMARY:Zumba
DESCRIPTION:
URL:https://www.smhfit.com/event/zumba-56/
END:VEVENT
BEGIN:VEVENT
DTSTART;TZID=America/Halifax:20240506T090000
DTEND;TZID=America/Halifax:20240506T100000
DTSTAMP:20260420T152500
CREATED:20240430T185826Z
LAST-MODIFIED:20240430T185826Z
UID:10011199-1714986000-1714989600@www.smhfit.com
SUMMARY:Spin
DESCRIPTION:
URL:https://www.smhfit.com/event/spin-504/
END:VEVENT
BEGIN:VEVENT
DTSTART;TZID=America/Halifax:20240506T100000
DTEND;TZID=America/Halifax:20240506T110000
DTSTAMP:20260420T152500
CREATED:20240430T190023Z
LAST-MODIFIED:20240430T190023Z
UID:10011201-1714989600-1714993200@www.smhfit.com
SUMMARY:Cardio Sculpt
DESCRIPTION:
URL:https://www.smhfit.com/event/cardio-sculpt-61/
END:VEVENT
BEGIN:VEVENT
DTSTART;TZID=America/Halifax:20240506T100000
DTEND;TZID=America/Halifax:20240506T110000
DTSTAMP:20260420T152500
CREATED:20240430T190024Z
LAST-MODIFIED:20240430T190024Z
UID:10011202-1714989600-1714993200@www.smhfit.com
SUMMARY:Aqua Challenge
DESCRIPTION:Aquatic Class
URL:https://www.smhfit.com/event/aqua-challenge-367/
END:VEVENT
BEGIN:VEVENT
DTSTART;TZID=America/Halifax:20240506T110000
DTEND;TZID=America/Halifax:20240506T120000
DTSTAMP:20260420T152500
CREATED:20240430T190025Z
LAST-MODIFIED:20240430T190025Z
UID:10009683-1714993200-1714996800@www.smhfit.com
SUMMARY:Slow Flow Yoga
DESCRIPTION:
URL:https://www.smhfit.com/event/slow-flow-yoga-6/
END:VEVENT
BEGIN:VEVENT
DTSTART;TZID=America/Halifax:20240506T140000
DTEND;TZID=America/Halifax:20240506T150000
DTSTAMP:20260420T152500
CREATED:20240430T190225Z
LAST-MODIFIED:20240430T190225Z
UID:10009687-1715004000-1715007600@www.smhfit.com
SUMMARY:Oncology Yoga
DESCRIPTION:
URL:https://www.smhfit.com/event/oncology-yoga-62/
END:VEVENT
BEGIN:VEVENT
DTSTART;TZID=America/Halifax:20240506T173000
DTEND;TZID=America/Halifax:20240506T183000
DTSTAMP:20260420T152500
CREATED:20240430T190226Z
LAST-MODIFIED:20240430T190226Z
UID:10009689-1715016600-1715020200@www.smhfit.com
SUMMARY:Xtreme Workout
DESCRIPTION:
URL:https://www.smhfit.com/event/xtreme-workout-57/
END:VEVENT
BEGIN:VEVENT
DTSTART;TZID=America/Halifax:20240506T180000
DTEND;TZID=America/Halifax:20240506T190000
DTSTAMP:20260420T152500
CREATED:20240430T190227Z
LAST-MODIFIED:20240430T190227Z
UID:10009691-1715018400-1715022000@www.smhfit.com
SUMMARY:Aqua Pilates
DESCRIPTION:Aquatic Class
URL:https://www.smhfit.com/event/aqua-pilates-81/
END:VEVENT
BEGIN:VEVENT
DTSTART;TZID=America/Halifax:20240506T180000
DTEND;TZID=America/Halifax:20240506T190000
DTSTAMP:20260420T152500
CREATED:20240430T190228Z
LAST-MODIFIED:20240430T190228Z
UID:10009693-1715018400-1715022000@www.smhfit.com
SUMMARY:Spin
DESCRIPTION:
URL:https://www.smhfit.com/event/spin-505/
END:VEVENT
BEGIN:VEVENT
DTSTART;TZID=America/Halifax:20240506T180000
DTEND;TZID=America/Halifax:20240506T190000
DTSTAMP:20260420T152500
CREATED:20240430T190229Z
LAST-MODIFIED:20240430T190229Z
UID:10009695-1715018400-1715022000@www.smhfit.com
SUMMARY:Prenatal Yoga
DESCRIPTION:
URL:https://www.smhfit.com/event/prenatal-yoga-60/
END:VEVENT
BEGIN:VEVENT
DTSTART;TZID=America/Halifax:20240507T060000
DTEND;TZID=America/Halifax:20240507T070000
DTSTAMP:20260420T152500
CREATED:20240430T190424Z
LAST-MODIFIED:20240430T190424Z
UID:10009697-1715061600-1715065200@www.smhfit.com
SUMMARY:Morning Crunch
DESCRIPTION:
URL:https://www.smhfit.com/event/morning-crunch-72/
END:VEVENT
BEGIN:VEVENT
DTSTART;TZID=America/Halifax:20240507T090000
DTEND;TZID=America/Halifax:20240507T100000
DTSTAMP:20260420T152500
CREATED:20240430T190426Z
LAST-MODIFIED:20240430T190426Z
UID:10009699-1715072400-1715076000@www.smhfit.com
SUMMARY:Chair Yoga
DESCRIPTION:
URL:https://www.smhfit.com/event/chair-yoga-123/
END:VEVENT
BEGIN:VEVENT
DTSTART;TZID=America/Halifax:20240507T090000
DTEND;TZID=America/Halifax:20240507T100000
DTSTAMP:20260420T152500
CREATED:20240430T190427Z
LAST-MODIFIED:20240430T190427Z
UID:10009701-1715072400-1715076000@www.smhfit.com
SUMMARY:Spin
DESCRIPTION:
URL:https://www.smhfit.com/event/spin-506/
END:VEVENT
BEGIN:VEVENT
DTSTART;TZID=America/Halifax:20240507T100000
DTEND;TZID=America/Halifax:20240507T110000
DTSTAMP:20260420T152500
CREATED:20240430T190428Z
LAST-MODIFIED:20240430T190428Z
UID:10011203-1715076000-1715079600@www.smhfit.com
SUMMARY:Aqua Challenge
DESCRIPTION:Aquatic Class
URL:https://www.smhfit.com/event/aqua-challenge-368/
END:VEVENT
BEGIN:VEVENT
DTSTART;TZID=America/Halifax:20240507T100000
DTEND;TZID=America/Halifax:20240507T110000
DTSTAMP:20260420T152500
CREATED:20240430T190429Z
LAST-MODIFIED:20240430T190429Z
UID:10011204-1715076000-1715079600@www.smhfit.com
SUMMARY:Total Body Tone
DESCRIPTION:
URL:https://www.smhfit.com/event/total-body-tone-123/
END:VEVENT
BEGIN:VEVENT
DTSTART;TZID=America/Halifax:20240507T100000
DTEND;TZID=America/Halifax:20240507T110000
DTSTAMP:20260420T152500
CREATED:20240430T190626Z
LAST-MODIFIED:20240430T190626Z
UID:10011207-1715076000-1715079600@www.smhfit.com
SUMMARY:Qi Gong
DESCRIPTION:
URL:https://www.smhfit.com/event/qi-gong-59/
END:VEVENT
BEGIN:VEVENT
DTSTART;TZID=America/Halifax:20240507T110000
DTEND;TZID=America/Halifax:20240507T120000
DTSTAMP:20260420T152500
CREATED:20240430T190625Z
LAST-MODIFIED:20240430T190625Z
UID:10011205-1715079600-1715083200@www.smhfit.com
SUMMARY:Low Int Gyrokinesis
DESCRIPTION:
URL:https://www.smhfit.com/event/low-int-gyrokinesis-20/
END:VEVENT
BEGIN:VEVENT
DTSTART;TZID=America/Halifax:20240507T110000
DTEND;TZID=America/Halifax:20240507T120000
DTSTAMP:20260420T152500
CREATED:20240430T190627Z
LAST-MODIFIED:20240430T190627Z
UID:10011209-1715079600-1715083200@www.smhfit.com
SUMMARY:Therapeutic Splash
DESCRIPTION:Aquatic Class
URL:https://www.smhfit.com/event/therapeutic-splash-122/
END:VEVENT
BEGIN:VEVENT
DTSTART;TZID=America/Halifax:20240507T110000
DTEND;TZID=America/Halifax:20240507T120000
DTSTAMP:20260420T152500
CREATED:20240430T190628Z
LAST-MODIFIED:20240430T190628Z
UID:10011211-1715079600-1715083200@www.smhfit.com
SUMMARY:Mat Pilates
DESCRIPTION:
URL:https://www.smhfit.com/event/mat-pilates-115/
END:VEVENT
BEGIN:VEVENT
DTSTART;TZID=America/Halifax:20240507T133000
DTEND;TZID=America/Halifax:20240507T143000
DTSTAMP:20260420T152500
CREATED:20240430T190629Z
LAST-MODIFIED:20240430T190629Z
UID:10011213-1715088600-1715092200@www.smhfit.com
SUMMARY:Whopping Movers
DESCRIPTION:
URL:https://www.smhfit.com/event/whopping-movers-170/
END:VEVENT
END:VCALENDAR