BEGIN:VCALENDAR
VERSION:2.0
PRODID:-//HealthFit - ECPv6.15.20//NONSGML v1.0//EN
CALSCALE:GREGORIAN
METHOD:PUBLISH
X-ORIGINAL-URL:https://www.smhfit.com
X-WR-CALDESC:Events for HealthFit
REFRESH-INTERVAL;VALUE=DURATION:PT1H
X-Robots-Tag:noindex
X-PUBLISHED-TTL:PT1H
BEGIN:VTIMEZONE
TZID:America/Halifax
BEGIN:DAYLIGHT
TZOFFSETFROM:-0400
TZOFFSETTO:-0300
TZNAME:ADT
DTSTART:20220313T060000
END:DAYLIGHT
BEGIN:STANDARD
TZOFFSETFROM:-0300
TZOFFSETTO:-0400
TZNAME:AST
DTSTART:20221106T050000
END:STANDARD
BEGIN:DAYLIGHT
TZOFFSETFROM:-0400
TZOFFSETTO:-0300
TZNAME:ADT
DTSTART:20230312T060000
END:DAYLIGHT
BEGIN:STANDARD
TZOFFSETFROM:-0300
TZOFFSETTO:-0400
TZNAME:AST
DTSTART:20231105T050000
END:STANDARD
BEGIN:DAYLIGHT
TZOFFSETFROM:-0400
TZOFFSETTO:-0300
TZNAME:ADT
DTSTART:20240310T060000
END:DAYLIGHT
BEGIN:STANDARD
TZOFFSETFROM:-0300
TZOFFSETTO:-0400
TZNAME:AST
DTSTART:20241103T050000
END:STANDARD
END:VTIMEZONE
BEGIN:VEVENT
DTSTART;TZID=America/Halifax:20231206T170000
DTEND;TZID=America/Halifax:20231206T180000
DTSTAMP:20260420T234554
CREATED:20231122T193512Z
LAST-MODIFIED:20231130T152843Z
UID:10009847-1701882000-1701885600@www.smhfit.com
SUMMARY:Vinyasa Flow
DESCRIPTION:
URL:https://www.smhfit.com/event/vinyasa-flow-55/
END:VEVENT
BEGIN:VEVENT
DTSTART;TZID=America/Halifax:20231206T173000
DTEND;TZID=America/Halifax:20231206T183000
DTSTAMP:20260420T234554
CREATED:20231122T193513Z
LAST-MODIFIED:20231130T152843Z
UID:10009849-1701883800-1701887400@www.smhfit.com
SUMMARY:Powerplex
DESCRIPTION:
URL:https://www.smhfit.com/event/powerplex-46/
END:VEVENT
BEGIN:VEVENT
DTSTART;TZID=America/Halifax:20231207T090000
DTEND;TZID=America/Halifax:20231207T100000
DTSTAMP:20260420T234554
CREATED:20231122T193710Z
LAST-MODIFIED:20231130T152856Z
UID:10009851-1701939600-1701943200@www.smhfit.com
SUMMARY:Chair Yoga
DESCRIPTION:
URL:https://www.smhfit.com/event/chair-yoga-93/
END:VEVENT
BEGIN:VEVENT
DTSTART;TZID=America/Halifax:20231207T090000
DTEND;TZID=America/Halifax:20231207T100000
DTSTAMP:20260420T234554
CREATED:20231122T193711Z
LAST-MODIFIED:20231130T152857Z
UID:10009853-1701939600-1701943200@www.smhfit.com
SUMMARY:Spin
DESCRIPTION:
URL:https://www.smhfit.com/event/spin-387/
END:VEVENT
BEGIN:VEVENT
DTSTART;TZID=America/Halifax:20231207T100000
DTEND;TZID=America/Halifax:20231207T110000
DTSTAMP:20260420T234554
CREATED:20231122T193713Z
LAST-MODIFIED:20231130T152858Z
UID:10009855-1701943200-1701946800@www.smhfit.com
SUMMARY:Aqua Challenge
DESCRIPTION:Aquatic Class
URL:https://www.smhfit.com/event/aqua-challenge-280/
END:VEVENT
BEGIN:VEVENT
DTSTART;TZID=America/Halifax:20231207T100000
DTEND;TZID=America/Halifax:20231207T110000
DTSTAMP:20260420T234554
CREATED:20231122T193714Z
LAST-MODIFIED:20231130T152858Z
UID:10009857-1701943200-1701946800@www.smhfit.com
SUMMARY:Total Body Tone
DESCRIPTION:
URL:https://www.smhfit.com/event/total-body-tone-93/
END:VEVENT
BEGIN:VEVENT
DTSTART;TZID=America/Halifax:20231207T100000
DTEND;TZID=America/Halifax:20231207T110000
DTSTAMP:20260420T234554
CREATED:20231122T193715Z
LAST-MODIFIED:20231130T152859Z
UID:10009859-1701943200-1701946800@www.smhfit.com
SUMMARY:Therapeutic Splash
DESCRIPTION:Aquatic Class
URL:https://www.smhfit.com/event/therapeutic-splash-92/
END:VEVENT
BEGIN:VEVENT
DTSTART;TZID=America/Halifax:20231207T100000
DTEND;TZID=America/Halifax:20231207T110000
DTSTAMP:20260420T234554
CREATED:20231122T193911Z
LAST-MODIFIED:20231130T152911Z
UID:10009861-1701943200-1701946800@www.smhfit.com
SUMMARY:Proactive Aging
DESCRIPTION:
URL:https://www.smhfit.com/event/proactive-aging-14/
END:VEVENT
BEGIN:VEVENT
DTSTART;TZID=America/Halifax:20231207T110000
DTEND;TZID=America/Halifax:20231207T120000
DTSTAMP:20260420T234554
CREATED:20231122T193912Z
LAST-MODIFIED:20231130T152912Z
UID:10009862-1701946800-1701950400@www.smhfit.com
SUMMARY:Gyrokinesis®
DESCRIPTION:
URL:https://www.smhfit.com/event/gyrokinesis-27/
END:VEVENT
BEGIN:VEVENT
DTSTART;TZID=America/Halifax:20231207T170000
DTEND;TZID=America/Halifax:20231207T180000
DTSTAMP:20260420T234554
CREATED:20231122T193915Z
LAST-MODIFIED:20231130T152914Z
UID:10009865-1701968400-1701972000@www.smhfit.com
SUMMARY:Restorative Yoga
DESCRIPTION:
URL:https://www.smhfit.com/event/restorative-yoga-36/
END:VEVENT
BEGIN:VEVENT
DTSTART;TZID=America/Halifax:20231207T173000
DTEND;TZID=America/Halifax:20231207T183000
DTSTAMP:20260420T234554
CREATED:20231122T193913Z
LAST-MODIFIED:20231130T152913Z
UID:10009863-1701970200-1701973800@www.smhfit.com
SUMMARY:Aqua Tone
DESCRIPTION:Aquatic Class
URL:https://www.smhfit.com/event/aqua-tone-112/
END:VEVENT
BEGIN:VEVENT
DTSTART;TZID=America/Halifax:20231207T183000
DTEND;TZID=America/Halifax:20231207T193000
DTSTAMP:20260420T234554
CREATED:20231122T193914Z
LAST-MODIFIED:20231130T152914Z
UID:10009864-1701973800-1701977400@www.smhfit.com
SUMMARY:Aqua Motion
DESCRIPTION:Aquatic Class
URL:https://www.smhfit.com/event/aqua-motion-35/
END:VEVENT
BEGIN:VEVENT
DTSTART;TZID=America/Halifax:20231208T080000
DTEND;TZID=America/Halifax:20231208T090000
DTSTAMP:20260420T234554
CREATED:20231122T194112Z
LAST-MODIFIED:20231130T152926Z
UID:10009866-1702022400-1702026000@www.smhfit.com
SUMMARY:Vinyasa Flow
DESCRIPTION:
URL:https://www.smhfit.com/event/vinyasa-flow-56/
END:VEVENT
BEGIN:VEVENT
DTSTART;TZID=America/Halifax:20231208T080000
DTEND;TZID=America/Halifax:20231208T090000
DTSTAMP:20260420T234554
CREATED:20231122T194113Z
LAST-MODIFIED:20231130T152927Z
UID:10009867-1702022400-1702026000@www.smhfit.com
SUMMARY:Balance&Stretch
DESCRIPTION:
URL:https://www.smhfit.com/event/balancestretch-95/
END:VEVENT
BEGIN:VEVENT
DTSTART;TZID=America/Halifax:20231208T090000
DTEND;TZID=America/Halifax:20231208T090000
DTSTAMP:20260420T234554
CREATED:20231130T152928Z
LAST-MODIFIED:20231130T152928Z
UID:10008952-1702026000-1702026000@www.smhfit.com
SUMMARY:Ageless Athletes
DESCRIPTION:
URL:https://www.smhfit.com/event/ageless-athletes-2/
END:VEVENT
BEGIN:VEVENT
DTSTART;TZID=America/Halifax:20231208T090000
DTEND;TZID=America/Halifax:20231208T100000
DTSTAMP:20260420T234554
CREATED:20231122T194114Z
LAST-MODIFIED:20231130T152928Z
UID:10009868-1702026000-1702029600@www.smhfit.com
SUMMARY:Spin
DESCRIPTION:
URL:https://www.smhfit.com/event/spin-388/
END:VEVENT
BEGIN:VEVENT
DTSTART;TZID=America/Halifax:20231208T090000
DTEND;TZID=America/Halifax:20231208T100000
DTSTAMP:20260420T234554
CREATED:20231122T194116Z
LAST-MODIFIED:20231130T152929Z
UID:10009869-1702026000-1702029600@www.smhfit.com
SUMMARY:TRX
DESCRIPTION:
URL:https://www.smhfit.com/event/trx-69/
END:VEVENT
BEGIN:VEVENT
DTSTART;TZID=America/Halifax:20231208T100000
DTEND;TZID=America/Halifax:20231208T110000
DTSTAMP:20260420T234554
CREATED:20231122T194313Z
LAST-MODIFIED:20231130T152941Z
UID:10009870-1702029600-1702033200@www.smhfit.com
SUMMARY:Step & Strength
DESCRIPTION:
URL:https://www.smhfit.com/event/step-strength/
END:VEVENT
BEGIN:VEVENT
DTSTART;TZID=America/Halifax:20231208T100000
DTEND;TZID=America/Halifax:20231208T110000
DTSTAMP:20260420T234554
CREATED:20231122T194314Z
LAST-MODIFIED:20231130T152942Z
UID:10009871-1702029600-1702033200@www.smhfit.com
SUMMARY:Aqua Challenge
DESCRIPTION:
URL:https://www.smhfit.com/event/aqua-challenge-281/
END:VEVENT
BEGIN:VEVENT
DTSTART;TZID=America/Halifax:20231208T110000
DTEND;TZID=America/Halifax:20231208T110000
DTSTAMP:20260420T234554
CREATED:20231130T152942Z
LAST-MODIFIED:20231130T152942Z
UID:10008954-1702033200-1702033200@www.smhfit.com
SUMMARY:AquaZen
DESCRIPTION:Aquatics Class
URL:https://www.smhfit.com/event/aquazen-2/
END:VEVENT
BEGIN:VEVENT
DTSTART;TZID=America/Halifax:20231208T110000
DTEND;TZID=America/Halifax:20231208T120000
DTSTAMP:20260420T234554
CREATED:20231122T194316Z
LAST-MODIFIED:20231130T152944Z
UID:10009872-1702033200-1702036800@www.smhfit.com
SUMMARY:Yoga
DESCRIPTION:
URL:https://www.smhfit.com/event/yoga-94/
END:VEVENT
BEGIN:VEVENT
DTSTART;TZID=America/Halifax:20231208T110000
DTEND;TZID=America/Halifax:20231208T120000
DTSTAMP:20260420T234554
CREATED:20231122T194317Z
LAST-MODIFIED:20231130T152946Z
UID:10009874-1702033200-1702036800@www.smhfit.com
SUMMARY:Whopping Movers
DESCRIPTION:
URL:https://www.smhfit.com/event/whopping-movers-141/
END:VEVENT
BEGIN:VEVENT
DTSTART;TZID=America/Halifax:20231208T140000
DTEND;TZID=America/Halifax:20231208T150000
DTSTAMP:20260420T234554
CREATED:20231122T194458Z
LAST-MODIFIED:20231130T152956Z
UID:10009876-1702044000-1702047600@www.smhfit.com
SUMMARY:Oncology Recovery Exercise
DESCRIPTION:
URL:https://www.smhfit.com/event/oncology-recovery-exercise-73/
END:VEVENT
BEGIN:VEVENT
DTSTART;TZID=America/Halifax:20231208T180000
DTEND;TZID=America/Halifax:20231208T190000
DTSTAMP:20260420T234554
CREATED:20231122T194500Z
LAST-MODIFIED:20231130T152957Z
UID:10009878-1702058400-1702062000@www.smhfit.com
SUMMARY:Aqua Pilates
DESCRIPTION:Aquatic Class
URL:https://www.smhfit.com/event/aqua-pilates-60/
END:VEVENT
BEGIN:VEVENT
DTSTART;TZID=America/Halifax:20231209T090000
DTEND;TZID=America/Halifax:20231209T100000
DTSTAMP:20260420T234554
CREATED:20231122T194501Z
LAST-MODIFIED:20231130T152958Z
UID:10009880-1702112400-1702116000@www.smhfit.com
SUMMARY:Spin
DESCRIPTION:
URL:https://www.smhfit.com/event/spin-389/
END:VEVENT
BEGIN:VEVENT
DTSTART;TZID=America/Halifax:20231209T090000
DTEND;TZID=America/Halifax:20231209T100000
DTSTAMP:20260420T234554
CREATED:20231122T194502Z
LAST-MODIFIED:20231130T152958Z
UID:10009882-1702112400-1702116000@www.smhfit.com
SUMMARY:HIIT & Core
DESCRIPTION:
URL:https://www.smhfit.com/event/hiit-core-59/
END:VEVENT
BEGIN:VEVENT
DTSTART;TZID=America/Halifax:20231209T100000
DTEND;TZID=America/Halifax:20231209T110000
DTSTAMP:20260420T234554
CREATED:20231122T194503Z
LAST-MODIFIED:20231130T152959Z
UID:10009884-1702116000-1702119600@www.smhfit.com
SUMMARY:Yoga
DESCRIPTION:
URL:https://www.smhfit.com/event/yoga-95/
END:VEVENT
BEGIN:VEVENT
DTSTART;TZID=America/Halifax:20231209T100000
DTEND;TZID=America/Halifax:20231209T110000
DTSTAMP:20260420T234554
CREATED:20231122T194513Z
LAST-MODIFIED:20231130T153012Z
UID:10009886-1702116000-1702119600@www.smhfit.com
SUMMARY:Aqua Challenge
DESCRIPTION:Aquatic Class
URL:https://www.smhfit.com/event/aqua-challenge-282/
END:VEVENT
BEGIN:VEVENT
DTSTART;TZID=America/Halifax:20231209T110000
DTEND;TZID=America/Halifax:20231209T120000
DTSTAMP:20260420T234554
CREATED:20231122T194514Z
LAST-MODIFIED:20231130T153013Z
UID:10009888-1702119600-1702123200@www.smhfit.com
SUMMARY:Oncology Qi Gong
DESCRIPTION:
URL:https://www.smhfit.com/event/oncology-qi-gong-58/
END:VEVENT
BEGIN:VEVENT
DTSTART;TZID=America/Halifax:20231211T000000
DTEND;TZID=America/Halifax:20231211T130000
DTSTAMP:20260420T234554
CREATED:20231122T194719Z
LAST-MODIFIED:20231130T153030Z
UID:10008892-1702252800-1702299600@www.smhfit.com
SUMMARY:Sit and Fit
DESCRIPTION:
URL:https://www.smhfit.com/event/sit-and-fit-45/
END:VEVENT
END:VCALENDAR