BEGIN:VCALENDAR
VERSION:2.0
PRODID:-//HealthFit - ECPv6.15.20//NONSGML v1.0//EN
CALSCALE:GREGORIAN
METHOD:PUBLISH
X-ORIGINAL-URL:https://www.smhfit.com
X-WR-CALDESC:Events for HealthFit
REFRESH-INTERVAL;VALUE=DURATION:PT1H
X-Robots-Tag:noindex
X-PUBLISHED-TTL:PT1H
BEGIN:VTIMEZONE
TZID:America/Halifax
BEGIN:DAYLIGHT
TZOFFSETFROM:-0400
TZOFFSETTO:-0300
TZNAME:ADT
DTSTART:20220313T060000
END:DAYLIGHT
BEGIN:STANDARD
TZOFFSETFROM:-0300
TZOFFSETTO:-0400
TZNAME:AST
DTSTART:20221106T050000
END:STANDARD
BEGIN:DAYLIGHT
TZOFFSETFROM:-0400
TZOFFSETTO:-0300
TZNAME:ADT
DTSTART:20230312T060000
END:DAYLIGHT
BEGIN:STANDARD
TZOFFSETFROM:-0300
TZOFFSETTO:-0400
TZNAME:AST
DTSTART:20231105T050000
END:STANDARD
BEGIN:DAYLIGHT
TZOFFSETFROM:-0400
TZOFFSETTO:-0300
TZNAME:ADT
DTSTART:20240310T060000
END:DAYLIGHT
BEGIN:STANDARD
TZOFFSETFROM:-0300
TZOFFSETTO:-0400
TZNAME:AST
DTSTART:20241103T050000
END:STANDARD
END:VTIMEZONE
BEGIN:VEVENT
DTSTART;TZID=America/Halifax:20231011T090000
DTEND;TZID=America/Halifax:20231011T100000
DTSTAMP:20260420T173427
CREATED:20230928T145704Z
LAST-MODIFIED:20230928T145704Z
UID:10008712-1697014800-1697018400@www.smhfit.com
SUMMARY:Spin
DESCRIPTION:Aquatic Class
URL:https://www.smhfit.com/event/spin-357/
END:VEVENT
BEGIN:VEVENT
DTSTART;TZID=America/Halifax:20231011T090000
DTEND;TZID=America/Halifax:20231011T110000
DTSTAMP:20260420T173427
CREATED:20230928T145705Z
LAST-MODIFIED:20230928T145705Z
UID:10008713-1697014800-1697022000@www.smhfit.com
SUMMARY:TRX
DESCRIPTION:
URL:https://www.smhfit.com/event/trx-61/
END:VEVENT
BEGIN:VEVENT
DTSTART;TZID=America/Halifax:20231011T100000
DTEND;TZID=America/Halifax:20231011T110000
DTSTAMP:20260420T173427
CREATED:20230928T145706Z
LAST-MODIFIED:20230928T145706Z
UID:10009552-1697018400-1697022000@www.smhfit.com
SUMMARY:Aqua Challenge
DESCRIPTION:
URL:https://www.smhfit.com/event/aqua-challenge-257/
END:VEVENT
BEGIN:VEVENT
DTSTART;TZID=America/Halifax:20231011T100000
DTEND;TZID=America/Halifax:20231011T110000
DTSTAMP:20260420T173427
CREATED:20230928T145707Z
LAST-MODIFIED:20230928T145707Z
UID:10009554-1697018400-1697022000@www.smhfit.com
SUMMARY:Oncology Recovery Exercise
DESCRIPTION:
URL:https://www.smhfit.com/event/oncology-recovery-exercise-65/
END:VEVENT
BEGIN:VEVENT
DTSTART;TZID=America/Halifax:20231011T110000
DTEND;TZID=America/Halifax:20231011T120000
DTSTAMP:20260420T173427
CREATED:20230928T145708Z
LAST-MODIFIED:20230928T145708Z
UID:10009556-1697022000-1697025600@www.smhfit.com
SUMMARY:Therapeutic Yoga
DESCRIPTION:Aquatic Class
URL:https://www.smhfit.com/event/therapeutic-yoga-43/
END:VEVENT
BEGIN:VEVENT
DTSTART;TZID=America/Halifax:20231011T110000
DTEND;TZID=America/Halifax:20231011T120000
DTSTAMP:20260420T173427
CREATED:20230928T145904Z
LAST-MODIFIED:20230928T145904Z
UID:10009557-1697022000-1697025600@www.smhfit.com
SUMMARY:Whopping Movers
DESCRIPTION:
URL:https://www.smhfit.com/event/whopping-movers-129/
END:VEVENT
BEGIN:VEVENT
DTSTART;TZID=America/Halifax:20231011T120000
DTEND;TZID=America/Halifax:20231011T130000
DTSTAMP:20260420T173427
CREATED:20230928T145906Z
LAST-MODIFIED:20230928T145906Z
UID:10009558-1697025600-1697029200@www.smhfit.com
SUMMARY:FUNctional Fitness
DESCRIPTION:
URL:https://www.smhfit.com/event/functional-fitness-55/
END:VEVENT
BEGIN:VEVENT
DTSTART;TZID=America/Halifax:20231011T170000
DTEND;TZID=America/Halifax:20231011T180000
DTSTAMP:20260420T173427
CREATED:20230928T145907Z
LAST-MODIFIED:20230928T145907Z
UID:10009559-1697043600-1697047200@www.smhfit.com
SUMMARY:Vinyasa Flow
DESCRIPTION:
URL:https://www.smhfit.com/event/vinyasa-flow-45/
END:VEVENT
BEGIN:VEVENT
DTSTART;TZID=America/Halifax:20231011T173000
DTEND;TZID=America/Halifax:20231011T183000
DTSTAMP:20260420T173427
CREATED:20230928T145908Z
LAST-MODIFIED:20230928T145908Z
UID:10009584-1697045400-1697049000@www.smhfit.com
SUMMARY:Powerplex
DESCRIPTION:
URL:https://www.smhfit.com/event/powerplex-43/
END:VEVENT
BEGIN:VEVENT
DTSTART;TZID=America/Halifax:20231012T090000
DTEND;TZID=America/Halifax:20231012T100000
DTSTAMP:20260420T173427
CREATED:20230928T145909Z
LAST-MODIFIED:20230928T145909Z
UID:10009586-1697101200-1697104800@www.smhfit.com
SUMMARY:Chair Yoga
DESCRIPTION:
URL:https://www.smhfit.com/event/chair-yoga-86/
END:VEVENT
BEGIN:VEVENT
DTSTART;TZID=America/Halifax:20231012T090000
DTEND;TZID=America/Halifax:20231012T100000
DTSTAMP:20260420T173427
CREATED:20230928T150145Z
LAST-MODIFIED:20230928T150145Z
UID:10009588-1697101200-1697104800@www.smhfit.com
SUMMARY:Spin
DESCRIPTION:
URL:https://www.smhfit.com/event/spin-358/
END:VEVENT
BEGIN:VEVENT
DTSTART;TZID=America/Halifax:20231012T100000
DTEND;TZID=America/Halifax:20231012T110000
DTSTAMP:20260420T173427
CREATED:20230928T150146Z
LAST-MODIFIED:20230928T150146Z
UID:10009590-1697104800-1697108400@www.smhfit.com
SUMMARY:Aqua Challenge
DESCRIPTION:Aquatic Class
URL:https://www.smhfit.com/event/aqua-challenge-258/
END:VEVENT
BEGIN:VEVENT
DTSTART;TZID=America/Halifax:20231012T100000
DTEND;TZID=America/Halifax:20231012T110000
DTSTAMP:20260420T173427
CREATED:20230928T150147Z
LAST-MODIFIED:20230928T150147Z
UID:10008714-1697104800-1697108400@www.smhfit.com
SUMMARY:Total Body Tone
DESCRIPTION:
URL:https://www.smhfit.com/event/total-body-tone-86/
END:VEVENT
BEGIN:VEVENT
DTSTART;TZID=America/Halifax:20231012T100000
DTEND;TZID=America/Halifax:20231012T110000
DTSTAMP:20260420T173427
CREATED:20230928T150149Z
LAST-MODIFIED:20230928T150149Z
UID:10008715-1697104800-1697108400@www.smhfit.com
SUMMARY:Therapeutic Splash
DESCRIPTION:Aquatic Class
URL:https://www.smhfit.com/event/therapeutic-splash-85/
END:VEVENT
BEGIN:VEVENT
DTSTART;TZID=America/Halifax:20231012T100000
DTEND;TZID=America/Halifax:20231012T110000
DTSTAMP:20260420T173427
CREATED:20230928T150150Z
LAST-MODIFIED:20230928T150150Z
UID:10008716-1697104800-1697108400@www.smhfit.com
SUMMARY:Proactive Aging
DESCRIPTION:
URL:https://www.smhfit.com/event/proactive-aging-11/
END:VEVENT
BEGIN:VEVENT
DTSTART;TZID=America/Halifax:20231012T110000
DTEND;TZID=America/Halifax:20231012T120000
DTSTAMP:20260420T173427
CREATED:20230928T150200Z
LAST-MODIFIED:20230928T150200Z
UID:10008717-1697108400-1697112000@www.smhfit.com
SUMMARY:Gyrokinesis®
DESCRIPTION:
URL:https://www.smhfit.com/event/gyrokinesis-24/
END:VEVENT
BEGIN:VEVENT
DTSTART;TZID=America/Halifax:20231012T170000
DTEND;TZID=America/Halifax:20231012T180000
DTSTAMP:20260420T173427
CREATED:20230928T150202Z
LAST-MODIFIED:20230928T150202Z
UID:10008719-1697130000-1697133600@www.smhfit.com
SUMMARY:Restorative Yoga
DESCRIPTION:
URL:https://www.smhfit.com/event/restorative-yoga-33/
END:VEVENT
BEGIN:VEVENT
DTSTART;TZID=America/Halifax:20231012T173000
DTEND;TZID=America/Halifax:20231012T183000
DTSTAMP:20260420T173427
CREATED:20230928T150201Z
LAST-MODIFIED:20230928T150201Z
UID:10008718-1697131800-1697135400@www.smhfit.com
SUMMARY:Aqua Tone
DESCRIPTION:Aquatic Class
URL:https://www.smhfit.com/event/aqua-tone-105/
END:VEVENT
BEGIN:VEVENT
DTSTART;TZID=America/Halifax:20231013T080000
DTEND;TZID=America/Halifax:20231013T090000
DTSTAMP:20260420T173427
CREATED:20230928T150204Z
LAST-MODIFIED:20230928T150204Z
UID:10008720-1697184000-1697187600@www.smhfit.com
SUMMARY:Vinyasa Flow
DESCRIPTION:
URL:https://www.smhfit.com/event/vinyasa-flow-46/
END:VEVENT
BEGIN:VEVENT
DTSTART;TZID=America/Halifax:20231013T080000
DTEND;TZID=America/Halifax:20231013T090000
DTSTAMP:20260420T173427
CREATED:20230928T150205Z
LAST-MODIFIED:20230928T150205Z
UID:10008721-1697184000-1697187600@www.smhfit.com
SUMMARY:Balance&Stretch
DESCRIPTION:
URL:https://www.smhfit.com/event/balancestretch-87/
END:VEVENT
BEGIN:VEVENT
DTSTART;TZID=America/Halifax:20231013T090000
DTEND;TZID=America/Halifax:20231013T100000
DTSTAMP:20260420T173427
CREATED:20230928T150216Z
LAST-MODIFIED:20230928T150216Z
UID:10008722-1697187600-1697191200@www.smhfit.com
SUMMARY:Spin
DESCRIPTION:
URL:https://www.smhfit.com/event/spin-359/
END:VEVENT
BEGIN:VEVENT
DTSTART;TZID=America/Halifax:20231013T090000
DTEND;TZID=America/Halifax:20231013T100000
DTSTAMP:20260420T173427
CREATED:20230928T150217Z
LAST-MODIFIED:20230928T150217Z
UID:10008723-1697187600-1697191200@www.smhfit.com
SUMMARY:TRX
DESCRIPTION:
URL:https://www.smhfit.com/event/trx-62/
END:VEVENT
BEGIN:VEVENT
DTSTART;TZID=America/Halifax:20231013T100000
DTEND;TZID=America/Halifax:20231013T110000
DTSTAMP:20260420T173427
CREATED:20230928T150219Z
LAST-MODIFIED:20230928T150219Z
UID:10009592-1697191200-1697194800@www.smhfit.com
SUMMARY:PowerStep
DESCRIPTION:
URL:https://www.smhfit.com/event/powerstep-44/
END:VEVENT
BEGIN:VEVENT
DTSTART;TZID=America/Halifax:20231013T100000
DTEND;TZID=America/Halifax:20231013T110000
DTSTAMP:20260420T173427
CREATED:20230928T150221Z
LAST-MODIFIED:20230928T150221Z
UID:10009594-1697191200-1697194800@www.smhfit.com
SUMMARY:Aqua Challenge
DESCRIPTION:
URL:https://www.smhfit.com/event/aqua-challenge-259/
END:VEVENT
BEGIN:VEVENT
DTSTART;TZID=America/Halifax:20231013T110000
DTEND;TZID=America/Halifax:20231013T120000
DTSTAMP:20260420T173427
CREATED:20230928T150222Z
LAST-MODIFIED:20230928T150222Z
UID:10009596-1697194800-1697198400@www.smhfit.com
SUMMARY:Yoga
DESCRIPTION:
URL:https://www.smhfit.com/event/yoga-86/
END:VEVENT
BEGIN:VEVENT
DTSTART;TZID=America/Halifax:20231013T110000
DTEND;TZID=America/Halifax:20231013T120000
DTSTAMP:20260420T173427
CREATED:20230928T150230Z
LAST-MODIFIED:20230928T150230Z
UID:10009597-1697194800-1697198400@www.smhfit.com
SUMMARY:Whopping Movers
DESCRIPTION:
URL:https://www.smhfit.com/event/whopping-movers-130/
END:VEVENT
BEGIN:VEVENT
DTSTART;TZID=America/Halifax:20231013T140000
DTEND;TZID=America/Halifax:20231013T150000
DTSTAMP:20260420T173427
CREATED:20230928T150231Z
LAST-MODIFIED:20230928T150231Z
UID:10009598-1697205600-1697209200@www.smhfit.com
SUMMARY:Oncology Recovery Exercise
DESCRIPTION:
URL:https://www.smhfit.com/event/oncology-recovery-exercise-66/
END:VEVENT
BEGIN:VEVENT
DTSTART;TZID=America/Halifax:20231014T090000
DTEND;TZID=America/Halifax:20231014T100000
DTSTAMP:20260420T173427
CREATED:20230928T150232Z
LAST-MODIFIED:20230928T150232Z
UID:10009599-1697274000-1697277600@www.smhfit.com
SUMMARY:Spin
DESCRIPTION:
URL:https://www.smhfit.com/event/spin-360/
END:VEVENT
BEGIN:VEVENT
DTSTART;TZID=America/Halifax:20231014T090000
DTEND;TZID=America/Halifax:20231014T100000
DTSTAMP:20260420T173427
CREATED:20230928T150234Z
LAST-MODIFIED:20230928T150234Z
UID:10009600-1697274000-1697277600@www.smhfit.com
SUMMARY:HIIT & Core
DESCRIPTION:
URL:https://www.smhfit.com/event/hiit-core-55/
END:VEVENT
BEGIN:VEVENT
DTSTART;TZID=America/Halifax:20231014T100000
DTEND;TZID=America/Halifax:20231014T110000
DTSTAMP:20260420T173427
CREATED:20230928T150235Z
LAST-MODIFIED:20230928T150235Z
UID:10009601-1697277600-1697281200@www.smhfit.com
SUMMARY:Yoga
DESCRIPTION:
URL:https://www.smhfit.com/event/yoga-87/
END:VEVENT
END:VCALENDAR