BEGIN:VCALENDAR
VERSION:2.0
PRODID:-//HealthFit - ECPv6.15.20//NONSGML v1.0//EN
CALSCALE:GREGORIAN
METHOD:PUBLISH
X-ORIGINAL-URL:https://www.smhfit.com
X-WR-CALDESC:Events for HealthFit
REFRESH-INTERVAL;VALUE=DURATION:PT1H
X-Robots-Tag:noindex
X-PUBLISHED-TTL:PT1H
BEGIN:VTIMEZONE
TZID:America/Halifax
BEGIN:DAYLIGHT
TZOFFSETFROM:-0400
TZOFFSETTO:-0300
TZNAME:ADT
DTSTART:20220313T060000
END:DAYLIGHT
BEGIN:STANDARD
TZOFFSETFROM:-0300
TZOFFSETTO:-0400
TZNAME:AST
DTSTART:20221106T050000
END:STANDARD
BEGIN:DAYLIGHT
TZOFFSETFROM:-0400
TZOFFSETTO:-0300
TZNAME:ADT
DTSTART:20230312T060000
END:DAYLIGHT
BEGIN:STANDARD
TZOFFSETFROM:-0300
TZOFFSETTO:-0400
TZNAME:AST
DTSTART:20231105T050000
END:STANDARD
BEGIN:DAYLIGHT
TZOFFSETFROM:-0400
TZOFFSETTO:-0300
TZNAME:ADT
DTSTART:20240310T060000
END:DAYLIGHT
BEGIN:STANDARD
TZOFFSETFROM:-0300
TZOFFSETTO:-0400
TZNAME:AST
DTSTART:20241103T050000
END:STANDARD
END:VTIMEZONE
BEGIN:VEVENT
DTSTART;TZID=America/Halifax:20231030T090000
DTEND;TZID=America/Halifax:20231030T094500
DTSTAMP:20260420T131126
CREATED:20230928T155541Z
LAST-MODIFIED:20230928T155541Z
UID:10009778-1698656400-1698659100@www.smhfit.com
SUMMARY:Zumba
DESCRIPTION:
URL:https://www.smhfit.com/event/zumba-38/
END:VEVENT
BEGIN:VEVENT
DTSTART;TZID=America/Halifax:20231030T090000
DTEND;TZID=America/Halifax:20231030T100000
DTSTAMP:20260420T131126
CREATED:20230928T155540Z
LAST-MODIFIED:20230928T155540Z
UID:10009776-1698656400-1698660000@www.smhfit.com
SUMMARY:Spin
DESCRIPTION:
URL:https://www.smhfit.com/event/spin-377/
END:VEVENT
BEGIN:VEVENT
DTSTART;TZID=America/Halifax:20231030T100000
DTEND;TZID=America/Halifax:20231030T110000
DTSTAMP:20260420T131126
CREATED:20230928T155542Z
LAST-MODIFIED:20230928T155542Z
UID:10009779-1698660000-1698663600@www.smhfit.com
SUMMARY:Cardio Sculpt
DESCRIPTION:
URL:https://www.smhfit.com/event/cardio-sculpt-46/
END:VEVENT
BEGIN:VEVENT
DTSTART;TZID=America/Halifax:20231030T100000
DTEND;TZID=America/Halifax:20231030T110000
DTSTAMP:20260420T131126
CREATED:20230928T155543Z
LAST-MODIFIED:20230928T155543Z
UID:10009780-1698660000-1698663600@www.smhfit.com
SUMMARY:Aqua Challenge
DESCRIPTION:Aquatic Class
URL:https://www.smhfit.com/event/aqua-challenge-273/
END:VEVENT
BEGIN:VEVENT
DTSTART;TZID=America/Halifax:20231030T110000
DTEND;TZID=America/Halifax:20231030T110000
DTSTAMP:20260420T131126
CREATED:20230928T155544Z
LAST-MODIFIED:20230928T155544Z
UID:10009781-1698663600-1698663600@www.smhfit.com
SUMMARY:Whopping Movers
DESCRIPTION:
URL:https://www.smhfit.com/event/whopping-movers-137/
END:VEVENT
BEGIN:VEVENT
DTSTART;TZID=America/Halifax:20231030T110000
DTEND;TZID=America/Halifax:20231030T120000
DTSTAMP:20260420T131126
CREATED:20230928T155556Z
LAST-MODIFIED:20230928T155556Z
UID:10008812-1698663600-1698667200@www.smhfit.com
SUMMARY:Yoga Tone and Balance
DESCRIPTION:
URL:https://www.smhfit.com/event/yoga-tone-and-balance-36/
END:VEVENT
BEGIN:VEVENT
DTSTART;TZID=America/Halifax:20231030T140000
DTEND;TZID=America/Halifax:20231030T150000
DTSTAMP:20260420T131126
CREATED:20230928T155558Z
LAST-MODIFIED:20230928T155558Z
UID:10008814-1698674400-1698678000@www.smhfit.com
SUMMARY:Oncology Yoga
DESCRIPTION:
URL:https://www.smhfit.com/event/oncology-yoga-57/
END:VEVENT
BEGIN:VEVENT
DTSTART;TZID=America/Halifax:20231030T173000
DTEND;TZID=America/Halifax:20231030T183000
DTSTAMP:20260420T131126
CREATED:20230928T155559Z
LAST-MODIFIED:20230928T155559Z
UID:10008815-1698687000-1698690600@www.smhfit.com
SUMMARY:Xtreme Workout
DESCRIPTION:
URL:https://www.smhfit.com/event/xtreme-workout-42/
END:VEVENT
BEGIN:VEVENT
DTSTART;TZID=America/Halifax:20231030T180000
DTEND;TZID=America/Halifax:20231030T190000
DTSTAMP:20260420T131126
CREATED:20230928T155600Z
LAST-MODIFIED:20230928T155600Z
UID:10008816-1698688800-1698692400@www.smhfit.com
SUMMARY:Aqua Pilates
DESCRIPTION:Aquatic Class
URL:https://www.smhfit.com/event/aqua-pilates-57/
END:VEVENT
BEGIN:VEVENT
DTSTART;TZID=America/Halifax:20231030T180000
DTEND;TZID=America/Halifax:20231030T190000
DTSTAMP:20260420T131126
CREATED:20230928T155610Z
LAST-MODIFIED:20230928T155610Z
UID:10008817-1698688800-1698692400@www.smhfit.com
SUMMARY:Spin
DESCRIPTION:
URL:https://www.smhfit.com/event/spin-378/
END:VEVENT
BEGIN:VEVENT
DTSTART;TZID=America/Halifax:20231030T180000
DTEND;TZID=America/Halifax:20231030T190000
DTSTAMP:20260420T131126
CREATED:20230928T155611Z
LAST-MODIFIED:20230928T155611Z
UID:10008818-1698688800-1698692400@www.smhfit.com
SUMMARY:Prenatal Yoga
DESCRIPTION:
URL:https://www.smhfit.com/event/prenatal-yoga-45/
END:VEVENT
BEGIN:VEVENT
DTSTART;TZID=America/Halifax:20231031T060000
DTEND;TZID=America/Halifax:20231031T070000
DTSTAMP:20260420T131126
CREATED:20230928T155612Z
LAST-MODIFIED:20230928T155612Z
UID:10008819-1698732000-1698735600@www.smhfit.com
SUMMARY:Morning Crunch
DESCRIPTION:
URL:https://www.smhfit.com/event/morning-crunch-46/
END:VEVENT
BEGIN:VEVENT
DTSTART;TZID=America/Halifax:20231031T090000
DTEND;TZID=America/Halifax:20231031T100000
DTSTAMP:20260420T131126
CREATED:20230928T155614Z
LAST-MODIFIED:20230928T155614Z
UID:10008820-1698742800-1698746400@www.smhfit.com
SUMMARY:Chair Yoga
DESCRIPTION:
URL:https://www.smhfit.com/event/chair-yoga-91/
END:VEVENT
BEGIN:VEVENT
DTSTART;TZID=America/Halifax:20231031T090000
DTEND;TZID=America/Halifax:20231031T100000
DTSTAMP:20260420T131126
CREATED:20230928T155615Z
LAST-MODIFIED:20230928T155615Z
UID:10008821-1698742800-1698746400@www.smhfit.com
SUMMARY:Spin
DESCRIPTION:
URL:https://www.smhfit.com/event/spin-379/
END:VEVENT
BEGIN:VEVENT
DTSTART;TZID=America/Halifax:20231031T100000
DTEND;TZID=America/Halifax:20231031T110000
DTSTAMP:20260420T131126
CREATED:20230928T155625Z
LAST-MODIFIED:20230928T155625Z
UID:10009782-1698746400-1698750000@www.smhfit.com
SUMMARY:Aqua Challenge
DESCRIPTION:Aquatic Class
URL:https://www.smhfit.com/event/aqua-challenge-274/
END:VEVENT
BEGIN:VEVENT
DTSTART;TZID=America/Halifax:20231031T100000
DTEND;TZID=America/Halifax:20231031T110000
DTSTAMP:20260420T131126
CREATED:20230928T155626Z
LAST-MODIFIED:20230928T155626Z
UID:10009783-1698746400-1698750000@www.smhfit.com
SUMMARY:Total Body Tone
DESCRIPTION:
URL:https://www.smhfit.com/event/total-body-tone-91/
END:VEVENT
BEGIN:VEVENT
DTSTART;TZID=America/Halifax:20231031T100000
DTEND;TZID=America/Halifax:20231031T110000
DTSTAMP:20260420T131126
CREATED:20230928T155628Z
LAST-MODIFIED:20230928T155628Z
UID:10009784-1698746400-1698750000@www.smhfit.com
SUMMARY:Qi Gong
DESCRIPTION:
URL:https://www.smhfit.com/event/qi-gong-42/
END:VEVENT
BEGIN:VEVENT
DTSTART;TZID=America/Halifax:20231031T110000
DTEND;TZID=America/Halifax:20231031T120000
DTSTAMP:20260420T131126
CREATED:20230928T155630Z
LAST-MODIFIED:20230928T155630Z
UID:10009785-1698750000-1698753600@www.smhfit.com
SUMMARY:Therapeutic Splash
DESCRIPTION:Aquatic Class
URL:https://www.smhfit.com/event/therapeutic-splash-90/
END:VEVENT
BEGIN:VEVENT
DTSTART;TZID=America/Halifax:20231031T110000
DTEND;TZID=America/Halifax:20231031T120000
DTSTAMP:20260420T131126
CREATED:20230928T155632Z
LAST-MODIFIED:20230928T155632Z
UID:10009786-1698750000-1698753600@www.smhfit.com
SUMMARY:Mat Pilates
DESCRIPTION:
URL:https://www.smhfit.com/event/mat-pilates-85/
END:VEVENT
BEGIN:VEVENT
DTSTART;TZID=America/Halifax:20231031T170000
DTEND;TZID=America/Halifax:20231031T180000
DTSTAMP:20260420T131126
CREATED:20230928T155641Z
LAST-MODIFIED:20230928T155641Z
UID:10009787-1698771600-1698775200@www.smhfit.com
SUMMARY:Fundamental Yoga
DESCRIPTION:
URL:https://www.smhfit.com/event/fundamental-yoga-27/
END:VEVENT
BEGIN:VEVENT
DTSTART;TZID=America/Halifax:20231031T173000
DTEND;TZID=America/Halifax:20231031T183000
DTSTAMP:20260420T131126
CREATED:20230928T155643Z
LAST-MODIFIED:20230928T155643Z
UID:10009789-1698773400-1698777000@www.smhfit.com
SUMMARY:Aqua Tone
DESCRIPTION:Aquatic Class
URL:https://www.smhfit.com/event/aqua-tone-110/
END:VEVENT
BEGIN:VEVENT
DTSTART;TZID=America/Halifax:20231031T174500
DTEND;TZID=America/Halifax:20231031T183000
DTSTAMP:20260420T131126
CREATED:20230928T155642Z
LAST-MODIFIED:20230928T155642Z
UID:10009788-1698774300-1698777000@www.smhfit.com
SUMMARY:SHRED
DESCRIPTION:
URL:https://www.smhfit.com/event/shred-58/
END:VEVENT
BEGIN:VEVENT
DTSTART;TZID=America/Halifax:20231031T183000
DTEND;TZID=America/Halifax:20231031T193000
DTSTAMP:20260420T131126
CREATED:20230928T155644Z
LAST-MODIFIED:20230928T155644Z
UID:10009790-1698777000-1698780600@www.smhfit.com
SUMMARY:Aqua Motion
DESCRIPTION:Aquatic Class
URL:https://www.smhfit.com/event/aqua-motion-34/
END:VEVENT
BEGIN:VEVENT
DTSTART;TZID=America/Halifax:20231201T080000
DTEND;TZID=America/Halifax:20231201T090000
DTSTAMP:20260420T131126
CREATED:20231122T193055Z
LAST-MODIFIED:20231130T152616Z
UID:10009792-1701417600-1701421200@www.smhfit.com
SUMMARY:Vinyasa Flow
DESCRIPTION:
URL:https://www.smhfit.com/event/vinyasa-flow-53/
END:VEVENT
BEGIN:VEVENT
DTSTART;TZID=America/Halifax:20231201T080000
DTEND;TZID=America/Halifax:20231201T090000
DTSTAMP:20260420T131126
CREATED:20231122T193057Z
LAST-MODIFIED:20231130T152619Z
UID:10008822-1701417600-1701421200@www.smhfit.com
SUMMARY:Balance&Stretch
DESCRIPTION:
URL:https://www.smhfit.com/event/balancestretch-93/
END:VEVENT
BEGIN:VEVENT
DTSTART;TZID=America/Halifax:20231201T090000
DTEND;TZID=America/Halifax:20231201T100000
DTSTAMP:20260420T131126
CREATED:20231122T193058Z
LAST-MODIFIED:20231130T152620Z
UID:10008824-1701421200-1701424800@www.smhfit.com
SUMMARY:Spin
DESCRIPTION:
URL:https://www.smhfit.com/event/spin-380/
END:VEVENT
BEGIN:VEVENT
DTSTART;TZID=America/Halifax:20231201T090000
DTEND;TZID=America/Halifax:20231201T100000
DTSTAMP:20260420T131126
CREATED:20231122T193100Z
LAST-MODIFIED:20231130T152621Z
UID:10008826-1701421200-1701424800@www.smhfit.com
SUMMARY:Ageless Athletes
DESCRIPTION:
URL:https://www.smhfit.com/event/ageless-athletes/
END:VEVENT
BEGIN:VEVENT
DTSTART;TZID=America/Halifax:20231201T090000
DTEND;TZID=America/Halifax:20231201T100000
DTSTAMP:20260420T131126
CREATED:20231122T193101Z
LAST-MODIFIED:20231130T152622Z
UID:10008827-1701421200-1701424800@www.smhfit.com
SUMMARY:TRX
DESCRIPTION:
URL:https://www.smhfit.com/event/trx-67/
END:VEVENT
BEGIN:VEVENT
DTSTART;TZID=America/Halifax:20231201T100000
DTEND;TZID=America/Halifax:20231201T110000
DTSTAMP:20260420T131126
CREATED:20231122T193106Z
LAST-MODIFIED:20231130T152626Z
UID:10008829-1701424800-1701428400@www.smhfit.com
SUMMARY:Strep & Strength
DESCRIPTION:
URL:https://www.smhfit.com/event/strep-strength/
END:VEVENT
BEGIN:VEVENT
DTSTART;TZID=America/Halifax:20231201T100000
DTEND;TZID=America/Halifax:20231201T110000
DTSTAMP:20260420T131126
CREATED:20231122T193107Z
LAST-MODIFIED:20231130T152626Z
UID:10008831-1701424800-1701428400@www.smhfit.com
SUMMARY:Aqua Challenge
DESCRIPTION:
URL:https://www.smhfit.com/event/aqua-challenge-275/
END:VEVENT
END:VCALENDAR