BEGIN:VCALENDAR
VERSION:2.0
PRODID:-//HealthFit - ECPv6.15.20//NONSGML v1.0//EN
CALSCALE:GREGORIAN
METHOD:PUBLISH
X-ORIGINAL-URL:https://www.smhfit.com
X-WR-CALDESC:Events for HealthFit
REFRESH-INTERVAL;VALUE=DURATION:PT1H
X-Robots-Tag:noindex
X-PUBLISHED-TTL:PT1H
BEGIN:VTIMEZONE
TZID:America/Halifax
BEGIN:DAYLIGHT
TZOFFSETFROM:-0400
TZOFFSETTO:-0300
TZNAME:ADT
DTSTART:20220313T060000
END:DAYLIGHT
BEGIN:STANDARD
TZOFFSETFROM:-0300
TZOFFSETTO:-0400
TZNAME:AST
DTSTART:20221106T050000
END:STANDARD
BEGIN:DAYLIGHT
TZOFFSETFROM:-0400
TZOFFSETTO:-0300
TZNAME:ADT
DTSTART:20230312T060000
END:DAYLIGHT
BEGIN:STANDARD
TZOFFSETFROM:-0300
TZOFFSETTO:-0400
TZNAME:AST
DTSTART:20231105T050000
END:STANDARD
BEGIN:DAYLIGHT
TZOFFSETFROM:-0400
TZOFFSETTO:-0300
TZNAME:ADT
DTSTART:20240310T060000
END:DAYLIGHT
BEGIN:STANDARD
TZOFFSETFROM:-0300
TZOFFSETTO:-0400
TZNAME:AST
DTSTART:20241103T050000
END:STANDARD
END:VTIMEZONE
BEGIN:VEVENT
DTSTART;TZID=America/Halifax:20231002T100000
DTEND;TZID=America/Halifax:20231002T110000
DTSTAMP:20260421T004841
CREATED:20230928T143935Z
LAST-MODIFIED:20230928T143935Z
UID:10008652-1696240800-1696244400@www.smhfit.com
SUMMARY:Cardio Sculpt
DESCRIPTION:
URL:https://www.smhfit.com/event/cardio-sculpt-42/
END:VEVENT
BEGIN:VEVENT
DTSTART;TZID=America/Halifax:20231002T100000
DTEND;TZID=America/Halifax:20231002T110000
DTSTAMP:20260421T004841
CREATED:20230928T143937Z
LAST-MODIFIED:20230928T143937Z
UID:10008654-1696240800-1696244400@www.smhfit.com
SUMMARY:Aqua Challenge
DESCRIPTION:Aquatic Class
URL:https://www.smhfit.com/event/aqua-challenge-249/
END:VEVENT
BEGIN:VEVENT
DTSTART;TZID=America/Halifax:20231002T110000
DTEND;TZID=America/Halifax:20231002T110000
DTSTAMP:20260421T004841
CREATED:20230928T143941Z
LAST-MODIFIED:20230928T143941Z
UID:10008656-1696244400-1696244400@www.smhfit.com
SUMMARY:Whopping Movers
DESCRIPTION:
URL:https://www.smhfit.com/event/whopping-movers-125/
END:VEVENT
BEGIN:VEVENT
DTSTART;TZID=America/Halifax:20231002T110000
DTEND;TZID=America/Halifax:20231002T120000
DTSTAMP:20260421T004841
CREATED:20230928T143942Z
LAST-MODIFIED:20230928T143942Z
UID:10008658-1696244400-1696248000@www.smhfit.com
SUMMARY:Yoga Tone and Balance
DESCRIPTION:
URL:https://www.smhfit.com/event/yoga-tone-and-balance-32/
END:VEVENT
BEGIN:VEVENT
DTSTART;TZID=America/Halifax:20231002T140000
DTEND;TZID=America/Halifax:20231002T150000
DTSTAMP:20260421T004841
CREATED:20230928T143944Z
LAST-MODIFIED:20230928T143944Z
UID:10009430-1696255200-1696258800@www.smhfit.com
SUMMARY:Oncology Yoga
DESCRIPTION:
URL:https://www.smhfit.com/event/oncology-yoga-53/
END:VEVENT
BEGIN:VEVENT
DTSTART;TZID=America/Halifax:20231002T173000
DTEND;TZID=America/Halifax:20231002T183000
DTSTAMP:20260421T004841
CREATED:20230928T143944Z
LAST-MODIFIED:20230928T143944Z
UID:10009432-1696267800-1696271400@www.smhfit.com
SUMMARY:Xtreme Workout
DESCRIPTION:
URL:https://www.smhfit.com/event/xtreme-workout-38/
END:VEVENT
BEGIN:VEVENT
DTSTART;TZID=America/Halifax:20231002T180000
DTEND;TZID=America/Halifax:20231002T190000
DTSTAMP:20260421T004841
CREATED:20230928T143956Z
LAST-MODIFIED:20230928T143956Z
UID:10009434-1696269600-1696273200@www.smhfit.com
SUMMARY:Aqua Pilates
DESCRIPTION:Aquatic Class
URL:https://www.smhfit.com/event/aqua-pilates-53/
END:VEVENT
BEGIN:VEVENT
DTSTART;TZID=America/Halifax:20231002T180000
DTEND;TZID=America/Halifax:20231002T190000
DTSTAMP:20260421T004841
CREATED:20230928T143957Z
LAST-MODIFIED:20230928T143957Z
UID:10009436-1696269600-1696273200@www.smhfit.com
SUMMARY:Spin
DESCRIPTION:
URL:https://www.smhfit.com/event/spin-346/
END:VEVENT
BEGIN:VEVENT
DTSTART;TZID=America/Halifax:20231002T180000
DTEND;TZID=America/Halifax:20231002T190000
DTSTAMP:20260421T004841
CREATED:20230928T143958Z
LAST-MODIFIED:20230928T143958Z
UID:10009438-1696269600-1696273200@www.smhfit.com
SUMMARY:Prenatal Yoga
DESCRIPTION:
URL:https://www.smhfit.com/event/prenatal-yoga-41/
END:VEVENT
BEGIN:VEVENT
DTSTART;TZID=America/Halifax:20231003T060000
DTEND;TZID=America/Halifax:20231003T070000
DTSTAMP:20260421T004841
CREATED:20230928T143958Z
LAST-MODIFIED:20230928T143958Z
UID:10009440-1696312800-1696316400@www.smhfit.com
SUMMARY:Morning Crunch
DESCRIPTION:
URL:https://www.smhfit.com/event/morning-crunch-42/
END:VEVENT
BEGIN:VEVENT
DTSTART;TZID=America/Halifax:20231003T090000
DTEND;TZID=America/Halifax:20231003T100000
DTSTAMP:20260421T004841
CREATED:20230928T143959Z
LAST-MODIFIED:20230928T143959Z
UID:10009442-1696323600-1696327200@www.smhfit.com
SUMMARY:Chair Yoga
DESCRIPTION:
URL:https://www.smhfit.com/event/chair-yoga-83/
END:VEVENT
BEGIN:VEVENT
DTSTART;TZID=America/Halifax:20231003T090000
DTEND;TZID=America/Halifax:20231003T100000
DTSTAMP:20260421T004841
CREATED:20230928T144011Z
LAST-MODIFIED:20230928T144011Z
UID:10009444-1696323600-1696327200@www.smhfit.com
SUMMARY:Spin
DESCRIPTION:
URL:https://www.smhfit.com/event/spin-347/
END:VEVENT
BEGIN:VEVENT
DTSTART;TZID=America/Halifax:20231003T100000
DTEND;TZID=America/Halifax:20231003T110000
DTSTAMP:20260421T004841
CREATED:20230928T144012Z
LAST-MODIFIED:20230928T144012Z
UID:10009446-1696327200-1696330800@www.smhfit.com
SUMMARY:Aqua Challenge
DESCRIPTION:Aquatic Class
URL:https://www.smhfit.com/event/aqua-challenge-250/
END:VEVENT
BEGIN:VEVENT
DTSTART;TZID=America/Halifax:20231003T100000
DTEND;TZID=America/Halifax:20231003T110000
DTSTAMP:20260421T004841
CREATED:20230928T144013Z
LAST-MODIFIED:20230928T144013Z
UID:10009448-1696327200-1696330800@www.smhfit.com
SUMMARY:Total Body Tone
DESCRIPTION:
URL:https://www.smhfit.com/event/total-body-tone-83/
END:VEVENT
BEGIN:VEVENT
DTSTART;TZID=America/Halifax:20231003T100000
DTEND;TZID=America/Halifax:20231003T110000
DTSTAMP:20260421T004841
CREATED:20230928T144014Z
LAST-MODIFIED:20230928T144014Z
UID:10009450-1696327200-1696330800@www.smhfit.com
SUMMARY:Qi Gong
DESCRIPTION:
URL:https://www.smhfit.com/event/qi-gong-38/
END:VEVENT
BEGIN:VEVENT
DTSTART;TZID=America/Halifax:20231003T110000
DTEND;TZID=America/Halifax:20231003T120000
DTSTAMP:20260421T004841
CREATED:20230928T144015Z
LAST-MODIFIED:20230928T144015Z
UID:10009451-1696330800-1696334400@www.smhfit.com
SUMMARY:Therapeutic Splash
DESCRIPTION:Aquatic Class
URL:https://www.smhfit.com/event/therapeutic-splash-82/
END:VEVENT
BEGIN:VEVENT
DTSTART;TZID=America/Halifax:20231003T110000
DTEND;TZID=America/Halifax:20231003T120000
DTSTAMP:20260421T004841
CREATED:20230928T144026Z
LAST-MODIFIED:20230928T144026Z
UID:10009452-1696330800-1696334400@www.smhfit.com
SUMMARY:Mat Pilates
DESCRIPTION:
URL:https://www.smhfit.com/event/mat-pilates-77/
END:VEVENT
BEGIN:VEVENT
DTSTART;TZID=America/Halifax:20231003T170000
DTEND;TZID=America/Halifax:20231003T180000
DTSTAMP:20260421T004841
CREATED:20230928T144027Z
LAST-MODIFIED:20230928T144027Z
UID:10009453-1696352400-1696356000@www.smhfit.com
SUMMARY:Fundamental Yoga
DESCRIPTION:
URL:https://www.smhfit.com/event/fundamental-yoga-23/
END:VEVENT
BEGIN:VEVENT
DTSTART;TZID=America/Halifax:20231003T173000
DTEND;TZID=America/Halifax:20231003T183000
DTSTAMP:20260421T004841
CREATED:20230928T144030Z
LAST-MODIFIED:20230928T144030Z
UID:10009455-1696354200-1696357800@www.smhfit.com
SUMMARY:Aqua Tone
DESCRIPTION:Aquatic Class
URL:https://www.smhfit.com/event/aqua-tone-102/
END:VEVENT
BEGIN:VEVENT
DTSTART;TZID=America/Halifax:20231003T174500
DTEND;TZID=America/Halifax:20231003T183000
DTSTAMP:20260421T004841
CREATED:20230928T144029Z
LAST-MODIFIED:20230928T144029Z
UID:10009454-1696355100-1696357800@www.smhfit.com
SUMMARY:SHRED
DESCRIPTION:
URL:https://www.smhfit.com/event/shred-54/
END:VEVENT
BEGIN:VEVENT
DTSTART;TZID=America/Halifax:20231003T183000
DTEND;TZID=America/Halifax:20231003T193000
DTSTAMP:20260421T004841
CREATED:20230928T144031Z
LAST-MODIFIED:20230928T144031Z
UID:10009456-1696357800-1696361400@www.smhfit.com
SUMMARY:Aqua Motion
DESCRIPTION:Aquatic Class
URL:https://www.smhfit.com/event/aqua-motion-30/
END:VEVENT
BEGIN:VEVENT
DTSTART;TZID=America/Halifax:20231004T060000
DTEND;TZID=America/Halifax:20231004T070000
DTSTAMP:20260421T004841
CREATED:20230928T144041Z
LAST-MODIFIED:20230928T144041Z
UID:10009457-1696399200-1696402800@www.smhfit.com
SUMMARY:Spin
DESCRIPTION:
URL:https://www.smhfit.com/event/spin-348/
END:VEVENT
BEGIN:VEVENT
DTSTART;TZID=America/Halifax:20231004T080000
DTEND;TZID=America/Halifax:20231004T090000
DTSTAMP:20260421T004841
CREATED:20230928T144042Z
LAST-MODIFIED:20230928T144042Z
UID:10009458-1696406400-1696410000@www.smhfit.com
SUMMARY:Vinyasa Flow
DESCRIPTION:
URL:https://www.smhfit.com/event/vinyasa-flow-41/
END:VEVENT
BEGIN:VEVENT
DTSTART;TZID=America/Halifax:20231004T080000
DTEND;TZID=America/Halifax:20231004T090000
DTSTAMP:20260421T004841
CREATED:20230928T144043Z
LAST-MODIFIED:20230928T144043Z
UID:10009459-1696406400-1696410000@www.smhfit.com
SUMMARY:BodyFit
DESCRIPTION:
URL:https://www.smhfit.com/event/bodyfit-43/
END:VEVENT
BEGIN:VEVENT
DTSTART;TZID=America/Halifax:20231004T090000
DTEND;TZID=America/Halifax:20231004T100000
DTSTAMP:20260421T004841
CREATED:20230928T144044Z
LAST-MODIFIED:20230928T144044Z
UID:10009460-1696410000-1696413600@www.smhfit.com
SUMMARY:Mat Pilates
DESCRIPTION:
URL:https://www.smhfit.com/event/mat-pilates-78/
END:VEVENT
BEGIN:VEVENT
DTSTART;TZID=America/Halifax:20231004T090000
DTEND;TZID=America/Halifax:20231004T100000
DTSTAMP:20260421T004841
CREATED:20230928T144045Z
LAST-MODIFIED:20230928T144045Z
UID:10009461-1696410000-1696413600@www.smhfit.com
SUMMARY:Spin
DESCRIPTION:Aquatic Class
URL:https://www.smhfit.com/event/spin-349/
END:VEVENT
BEGIN:VEVENT
DTSTART;TZID=America/Halifax:20231004T090000
DTEND;TZID=America/Halifax:20231004T110000
DTSTAMP:20260421T004841
CREATED:20230928T144056Z
LAST-MODIFIED:20230928T144056Z
UID:10009463-1696410000-1696417200@www.smhfit.com
SUMMARY:TRX
DESCRIPTION:
URL:https://www.smhfit.com/event/trx-59/
END:VEVENT
BEGIN:VEVENT
DTSTART;TZID=America/Halifax:20231004T100000
DTEND;TZID=America/Halifax:20231004T110000
DTSTAMP:20260421T004841
CREATED:20230928T144057Z
LAST-MODIFIED:20230928T144057Z
UID:10009465-1696413600-1696417200@www.smhfit.com
SUMMARY:Aqua Challenge
DESCRIPTION:
URL:https://www.smhfit.com/event/aqua-challenge-251/
END:VEVENT
BEGIN:VEVENT
DTSTART;TZID=America/Halifax:20231004T100000
DTEND;TZID=America/Halifax:20231004T110000
DTSTAMP:20260421T004841
CREATED:20230928T144058Z
LAST-MODIFIED:20230928T144058Z
UID:10009467-1696413600-1696417200@www.smhfit.com
SUMMARY:Oncology Recovery Exercise
DESCRIPTION:
URL:https://www.smhfit.com/event/oncology-recovery-exercise-63/
END:VEVENT
BEGIN:VEVENT
DTSTART;TZID=America/Halifax:20231004T110000
DTEND;TZID=America/Halifax:20231004T120000
DTSTAMP:20260421T004841
CREATED:20230928T144059Z
LAST-MODIFIED:20230928T144059Z
UID:10009469-1696417200-1696420800@www.smhfit.com
SUMMARY:Therapeutic Yoga
DESCRIPTION:Aquatic Class
URL:https://www.smhfit.com/event/therapeutic-yoga-42/
END:VEVENT
END:VCALENDAR