BEGIN:VCALENDAR
VERSION:2.0
PRODID:-//HealthFit - ECPv6.15.20//NONSGML v1.0//EN
CALSCALE:GREGORIAN
METHOD:PUBLISH
X-ORIGINAL-URL:https://www.smhfit.com
X-WR-CALDESC:Events for HealthFit
REFRESH-INTERVAL;VALUE=DURATION:PT1H
X-Robots-Tag:noindex
X-PUBLISHED-TTL:PT1H
BEGIN:VTIMEZONE
TZID:America/Halifax
BEGIN:DAYLIGHT
TZOFFSETFROM:-0400
TZOFFSETTO:-0300
TZNAME:ADT
DTSTART:20220313T060000
END:DAYLIGHT
BEGIN:STANDARD
TZOFFSETFROM:-0300
TZOFFSETTO:-0400
TZNAME:AST
DTSTART:20221106T050000
END:STANDARD
BEGIN:DAYLIGHT
TZOFFSETFROM:-0400
TZOFFSETTO:-0300
TZNAME:ADT
DTSTART:20230312T060000
END:DAYLIGHT
BEGIN:STANDARD
TZOFFSETFROM:-0300
TZOFFSETTO:-0400
TZNAME:AST
DTSTART:20231105T050000
END:STANDARD
BEGIN:DAYLIGHT
TZOFFSETFROM:-0400
TZOFFSETTO:-0300
TZNAME:ADT
DTSTART:20240310T060000
END:DAYLIGHT
BEGIN:STANDARD
TZOFFSETFROM:-0300
TZOFFSETTO:-0400
TZNAME:AST
DTSTART:20241103T050000
END:STANDARD
END:VTIMEZONE
BEGIN:VEVENT
DTSTART;TZID=America/Halifax:20231219T100000
DTEND;TZID=America/Halifax:20231219T110000
DTSTAMP:20260420T173429
CREATED:20231122T205624Z
LAST-MODIFIED:20231130T154337Z
UID:10008944-1702980000-1702983600@www.smhfit.com
SUMMARY:Qi Gong
DESCRIPTION:
URL:https://www.smhfit.com/event/qi-gong-45/
END:VEVENT
BEGIN:VEVENT
DTSTART;TZID=America/Halifax:20231219T110000
DTEND;TZID=America/Halifax:20231219T120000
DTSTAMP:20260420T173429
CREATED:20231122T205623Z
LAST-MODIFIED:20231130T154337Z
UID:10008942-1702983600-1702987200@www.smhfit.com
SUMMARY:Low Int Gyrokinesis
DESCRIPTION:
URL:https://www.smhfit.com/event/low-int-gyrokinesis-3/
END:VEVENT
BEGIN:VEVENT
DTSTART;TZID=America/Halifax:20231219T110000
DTEND;TZID=America/Halifax:20231219T120000
DTSTAMP:20260420T173429
CREATED:20231122T205625Z
LAST-MODIFIED:20231130T154338Z
UID:10008946-1702983600-1702987200@www.smhfit.com
SUMMARY:Therapeutic Splash
DESCRIPTION:Aquatic Class
URL:https://www.smhfit.com/event/therapeutic-splash-95/
END:VEVENT
BEGIN:VEVENT
DTSTART;TZID=America/Halifax:20231219T110000
DTEND;TZID=America/Halifax:20231219T120000
DTSTAMP:20260420T173429
CREATED:20231122T205626Z
LAST-MODIFIED:20231130T154339Z
UID:10008948-1702983600-1702987200@www.smhfit.com
SUMMARY:Mat Pilates
DESCRIPTION:
URL:https://www.smhfit.com/event/mat-pilates-90/
END:VEVENT
BEGIN:VEVENT
DTSTART;TZID=America/Halifax:20231219T170000
DTEND;TZID=America/Halifax:20231219T180000
DTSTAMP:20260420T173429
CREATED:20231122T205627Z
LAST-MODIFIED:20231130T154340Z
UID:10008950-1703005200-1703008800@www.smhfit.com
SUMMARY:Fundamental Yoga
DESCRIPTION:
URL:https://www.smhfit.com/event/fundamental-yoga-30/
END:VEVENT
BEGIN:VEVENT
DTSTART;TZID=America/Halifax:20231219T173000
DTEND;TZID=America/Halifax:20231219T183000
DTSTAMP:20260420T173429
CREATED:20231130T154353Z
LAST-MODIFIED:20231130T154353Z
UID:10009985-1703007000-1703010600@www.smhfit.com
SUMMARY:Aqua Tone
DESCRIPTION:Aquatic Class
URL:https://www.smhfit.com/event/aqua-tone-10/
END:VEVENT
BEGIN:VEVENT
DTSTART;TZID=America/Halifax:20231219T174500
DTEND;TZID=America/Halifax:20231219T183000
DTSTAMP:20260420T173429
CREATED:20231130T154351Z
LAST-MODIFIED:20231130T154351Z
UID:10009983-1703007900-1703010600@www.smhfit.com
SUMMARY:SHRED
DESCRIPTION:
URL:https://www.smhfit.com/event/shred-61/
END:VEVENT
BEGIN:VEVENT
DTSTART;TZID=America/Halifax:20231220T060000
DTEND;TZID=America/Halifax:20231220T070000
DTSTAMP:20260420T173429
CREATED:20231130T154354Z
LAST-MODIFIED:20231130T154354Z
UID:10009987-1703052000-1703055600@www.smhfit.com
SUMMARY:Spin
DESCRIPTION:
URL:https://www.smhfit.com/event/spin/
END:VEVENT
BEGIN:VEVENT
DTSTART;TZID=America/Halifax:20231220T080000
DTEND;TZID=America/Halifax:20231220T090000
DTSTAMP:20260420T173429
CREATED:20231130T154355Z
LAST-MODIFIED:20231130T154355Z
UID:10009989-1703059200-1703062800@www.smhfit.com
SUMMARY:Vinyasa Flow
DESCRIPTION:
URL:https://www.smhfit.com/event/vinyasa-flow-60/
END:VEVENT
BEGIN:VEVENT
DTSTART;TZID=America/Halifax:20231220T080000
DTEND;TZID=America/Halifax:20231220T090000
DTSTAMP:20260420T173429
CREATED:20231130T154356Z
LAST-MODIFIED:20231130T154356Z
UID:10009991-1703059200-1703062800@www.smhfit.com
SUMMARY:BodyFit
DESCRIPTION:
URL:https://www.smhfit.com/event/bodyfit-5/
END:VEVENT
BEGIN:VEVENT
DTSTART;TZID=America/Halifax:20231220T090000
DTEND;TZID=America/Halifax:20231220T100000
DTSTAMP:20260420T173429
CREATED:20231130T154407Z
LAST-MODIFIED:20231130T154407Z
UID:10009993-1703062800-1703066400@www.smhfit.com
SUMMARY:Mat Pilates
DESCRIPTION:
URL:https://www.smhfit.com/event/mat-pilates/
END:VEVENT
BEGIN:VEVENT
DTSTART;TZID=America/Halifax:20231220T090000
DTEND;TZID=America/Halifax:20231220T100000
DTSTAMP:20260420T173429
CREATED:20231130T154408Z
LAST-MODIFIED:20231130T154408Z
UID:10009995-1703062800-1703066400@www.smhfit.com
SUMMARY:Spin
DESCRIPTION:Aquatic Class
URL:https://www.smhfit.com/event/spin-2/
END:VEVENT
BEGIN:VEVENT
DTSTART;TZID=America/Halifax:20231220T090000
DTEND;TZID=America/Halifax:20231220T110000
DTSTAMP:20260420T173429
CREATED:20231130T154411Z
LAST-MODIFIED:20231130T154411Z
UID:10009997-1703062800-1703070000@www.smhfit.com
SUMMARY:TRX
DESCRIPTION:
URL:https://www.smhfit.com/event/trx-6/
END:VEVENT
BEGIN:VEVENT
DTSTART;TZID=America/Halifax:20231220T100000
DTEND;TZID=America/Halifax:20231220T110000
DTSTAMP:20260420T173429
CREATED:20231130T154412Z
LAST-MODIFIED:20231130T154412Z
UID:10009999-1703066400-1703070000@www.smhfit.com
SUMMARY:Aqua Challenge
DESCRIPTION:
URL:https://www.smhfit.com/event/aqua-challenge/
END:VEVENT
BEGIN:VEVENT
DTSTART;TZID=America/Halifax:20231220T100000
DTEND;TZID=America/Halifax:20231220T110000
DTSTAMP:20260420T173429
CREATED:20231130T154413Z
LAST-MODIFIED:20231130T154413Z
UID:10010000-1703066400-1703070000@www.smhfit.com
SUMMARY:Oncology Recovery Exercise
DESCRIPTION:
URL:https://www.smhfit.com/event/oncology-recovery-exercise-5/
END:VEVENT
BEGIN:VEVENT
DTSTART;TZID=America/Halifax:20231220T110000
DTEND;TZID=America/Halifax:20231220T120000
DTSTAMP:20260420T173429
CREATED:20231130T154422Z
LAST-MODIFIED:20231130T154422Z
UID:10010001-1703070000-1703073600@www.smhfit.com
SUMMARY:Therapeutic Yoga
DESCRIPTION:Aquatic Class
URL:https://www.smhfit.com/event/therapeutic-yoga-5/
END:VEVENT
BEGIN:VEVENT
DTSTART;TZID=America/Halifax:20231220T110000
DTEND;TZID=America/Halifax:20231220T120000
DTSTAMP:20260420T173429
CREATED:20231130T154422Z
LAST-MODIFIED:20231130T154422Z
UID:10010002-1703070000-1703073600@www.smhfit.com
SUMMARY:Whopping Movers
DESCRIPTION:
URL:https://www.smhfit.com/event/whopping-movers-4/
END:VEVENT
BEGIN:VEVENT
DTSTART;TZID=America/Halifax:20231220T120000
DTEND;TZID=America/Halifax:20231220T130000
DTSTAMP:20260420T173429
CREATED:20231130T154424Z
LAST-MODIFIED:20231130T154424Z
UID:10010003-1703073600-1703077200@www.smhfit.com
SUMMARY:FUNctional Fitness
DESCRIPTION:
URL:https://www.smhfit.com/event/functional-fitness-5/
END:VEVENT
BEGIN:VEVENT
DTSTART;TZID=America/Halifax:20231220T170000
DTEND;TZID=America/Halifax:20231220T180000
DTSTAMP:20260420T173429
CREATED:20231130T154425Z
LAST-MODIFIED:20231130T154425Z
UID:10010004-1703091600-1703095200@www.smhfit.com
SUMMARY:Vinyasa Flow
DESCRIPTION:
URL:https://www.smhfit.com/event/vinyasa-flow-61/
END:VEVENT
BEGIN:VEVENT
DTSTART;TZID=America/Halifax:20231220T173000
DTEND;TZID=America/Halifax:20231220T183000
DTSTAMP:20260420T173429
CREATED:20231130T154426Z
LAST-MODIFIED:20231130T154426Z
UID:10010005-1703093400-1703097000@www.smhfit.com
SUMMARY:Powerplex
DESCRIPTION:
URL:https://www.smhfit.com/event/powerplex-5/
END:VEVENT
BEGIN:VEVENT
DTSTART;TZID=America/Halifax:20231221T100000
DTEND;TZID=America/Halifax:20231221T110000
DTSTAMP:20260420T173429
CREATED:20231130T154440Z
LAST-MODIFIED:20231130T154440Z
UID:10010006-1703152800-1703156400@www.smhfit.com
SUMMARY:Therapeutic Splash
DESCRIPTION:Aquatic Class
URL:https://www.smhfit.com/event/therapeutic-splash/
END:VEVENT
BEGIN:VEVENT
DTSTART;TZID=America/Halifax:20231221T100000
DTEND;TZID=America/Halifax:20231221T110000
DTSTAMP:20260420T173429
CREATED:20231130T154452Z
LAST-MODIFIED:20231130T154452Z
UID:10010007-1703152800-1703156400@www.smhfit.com
SUMMARY:Proactive Aging
DESCRIPTION:
URL:https://www.smhfit.com/event/proactive-aging-16/
END:VEVENT
BEGIN:VEVENT
DTSTART;TZID=America/Halifax:20231221T110000
DTEND;TZID=America/Halifax:20231221T120000
DTSTAMP:20260420T173429
CREATED:20231130T154453Z
LAST-MODIFIED:20231130T154453Z
UID:10010008-1703156400-1703160000@www.smhfit.com
SUMMARY:Gyrokinesis®
DESCRIPTION:
URL:https://www.smhfit.com/event/gyrokinesis-29/
END:VEVENT
BEGIN:VEVENT
DTSTART;TZID=America/Halifax:20231221T170000
DTEND;TZID=America/Halifax:20231221T180000
DTSTAMP:20260420T173429
CREATED:20231130T154455Z
LAST-MODIFIED:20231130T154455Z
UID:10010010-1703178000-1703181600@www.smhfit.com
SUMMARY:Restorative Yoga
DESCRIPTION:
URL:https://www.smhfit.com/event/restorative-yoga-38/
END:VEVENT
BEGIN:VEVENT
DTSTART;TZID=America/Halifax:20231221T173000
DTEND;TZID=America/Halifax:20231221T183000
DTSTAMP:20260420T173429
CREATED:20231130T154454Z
LAST-MODIFIED:20231130T154454Z
UID:10010009-1703179800-1703183400@www.smhfit.com
SUMMARY:Aqua Tone
DESCRIPTION:Aquatic Class
URL:https://www.smhfit.com/event/aqua-tone-11/
END:VEVENT
BEGIN:VEVENT
DTSTART;TZID=America/Halifax:20231221T183000
DTEND;TZID=America/Halifax:20231221T183000
DTSTAMP:20260420T173429
CREATED:20231130T154456Z
LAST-MODIFIED:20231130T154456Z
UID:10010012-1703183400-1703183400@www.smhfit.com
SUMMARY:Aqua Motion
DESCRIPTION:Aquatic Class
URL:https://www.smhfit.com/event/aqua-motion-37/
END:VEVENT
BEGIN:VEVENT
DTSTART;TZID=America/Halifax:20231222T080000
DTEND;TZID=America/Halifax:20231222T090000
DTSTAMP:20260420T173429
CREATED:20231130T154507Z
LAST-MODIFIED:20231130T154507Z
UID:10010014-1703232000-1703235600@www.smhfit.com
SUMMARY:Balance&Stretch
DESCRIPTION:
URL:https://www.smhfit.com/event/balancestretch-2/
END:VEVENT
BEGIN:VEVENT
DTSTART;TZID=America/Halifax:20231222T080000
DTEND;TZID=America/Halifax:20231222T090000
DTSTAMP:20260420T173429
CREATED:20231130T154510Z
LAST-MODIFIED:20231130T154510Z
UID:10010016-1703232000-1703235600@www.smhfit.com
SUMMARY:Vinyasa Flow
DESCRIPTION:
URL:https://www.smhfit.com/event/vinyasa-flow-62/
END:VEVENT
BEGIN:VEVENT
DTSTART;TZID=America/Halifax:20231222T090000
DTEND;TZID=America/Halifax:20231229T100000
DTSTAMP:20260420T173429
CREATED:20231130T154511Z
LAST-MODIFIED:20231130T154511Z
UID:10010018-1703235600-1703844000@www.smhfit.com
SUMMARY:Spin
DESCRIPTION:
URL:https://www.smhfit.com/event/spin-15/
END:VEVENT
BEGIN:VEVENT
DTSTART;TZID=America/Halifax:20231222T110000
DTEND;TZID=America/Halifax:20231222T110000
DTSTAMP:20260420T173429
CREATED:20231130T154523Z
LAST-MODIFIED:20231130T154523Z
UID:10008965-1703242800-1703242800@www.smhfit.com
SUMMARY:AquaZen
DESCRIPTION:Aquatics Class
URL:https://www.smhfit.com/event/aquazen-4/
END:VEVENT
END:VCALENDAR