BEGIN:VCALENDAR
VERSION:2.0
PRODID:-//HealthFit - ECPv6.15.20//NONSGML v1.0//EN
CALSCALE:GREGORIAN
METHOD:PUBLISH
X-ORIGINAL-URL:https://www.smhfit.com
X-WR-CALDESC:Events for HealthFit
REFRESH-INTERVAL;VALUE=DURATION:PT1H
X-Robots-Tag:noindex
X-PUBLISHED-TTL:PT1H
BEGIN:VTIMEZONE
TZID:America/New_York
BEGIN:DAYLIGHT
TZOFFSETFROM:-0500
TZOFFSETTO:-0400
TZNAME:EDT
DTSTART:20240310T070000
END:DAYLIGHT
BEGIN:STANDARD
TZOFFSETFROM:-0400
TZOFFSETTO:-0500
TZNAME:EST
DTSTART:20241103T060000
END:STANDARD
BEGIN:DAYLIGHT
TZOFFSETFROM:-0500
TZOFFSETTO:-0400
TZNAME:EDT
DTSTART:20250309T070000
END:DAYLIGHT
BEGIN:STANDARD
TZOFFSETFROM:-0400
TZOFFSETTO:-0500
TZNAME:EST
DTSTART:20251102T060000
END:STANDARD
BEGIN:DAYLIGHT
TZOFFSETFROM:-0500
TZOFFSETTO:-0400
TZNAME:EDT
DTSTART:20260308T070000
END:DAYLIGHT
BEGIN:STANDARD
TZOFFSETFROM:-0400
TZOFFSETTO:-0500
TZNAME:EST
DTSTART:20261101T060000
END:STANDARD
END:VTIMEZONE
BEGIN:VEVENT
DTSTART;TZID=America/New_York:20250711T080000
DTEND;TZID=America/New_York:20250711T090000
DTSTAMP:20260420T011405
CREATED:20250627T135147Z
LAST-MODIFIED:20250627T135147Z
UID:56500-1752220800-1752224400@www.smhfit.com
SUMMARY:Vinyasa Flow
DESCRIPTION:
URL:https://www.smhfit.com/event/vinyasa-flow-158/
END:VEVENT
BEGIN:VEVENT
DTSTART;TZID=America/New_York:20250711T080000
DTEND;TZID=America/New_York:20250711T090000
DTSTAMP:20260420T011405
CREATED:20250627T135148Z
LAST-MODIFIED:20250627T135148Z
UID:56501-1752220800-1752224400@www.smhfit.com
SUMMARY:Balance&Stretch
DESCRIPTION:
URL:https://www.smhfit.com/event/balancestretch-202/
END:VEVENT
BEGIN:VEVENT
DTSTART;TZID=America/New_York:20250711T090000
DTEND;TZID=America/New_York:20250711T100000
DTSTAMP:20260420T011405
CREATED:20250627T135152Z
LAST-MODIFIED:20250627T135152Z
UID:56502-1752224400-1752228000@www.smhfit.com
SUMMARY:Spin
DESCRIPTION:
URL:https://www.smhfit.com/event/spin-741/
END:VEVENT
BEGIN:VEVENT
DTSTART;TZID=America/New_York:20250711T090000
DTEND;TZID=America/New_York:20250711T100000
DTSTAMP:20260420T011405
CREATED:20250627T135154Z
LAST-MODIFIED:20250627T135154Z
UID:56503-1752224400-1752228000@www.smhfit.com
SUMMARY:Ageless Athletes
DESCRIPTION:
URL:https://www.smhfit.com/event/ageless-athletes-65/
END:VEVENT
BEGIN:VEVENT
DTSTART;TZID=America/New_York:20250711T100000
DTEND;TZID=America/New_York:20250711T110000
DTSTAMP:20260420T011405
CREATED:20250627T135346Z
LAST-MODIFIED:20250627T135346Z
UID:56504-1752228000-1752231600@www.smhfit.com
SUMMARY:Step & Strength
DESCRIPTION:
URL:https://www.smhfit.com/event/step-strength-64/
END:VEVENT
BEGIN:VEVENT
DTSTART;TZID=America/New_York:20250711T100000
DTEND;TZID=America/New_York:20250711T110000
DTSTAMP:20260420T011405
CREATED:20250627T135350Z
LAST-MODIFIED:20250627T135350Z
UID:56505-1752228000-1752231600@www.smhfit.com
SUMMARY:Aqua Challenge
DESCRIPTION:
URL:https://www.smhfit.com/event/aqua-challenge-570/
END:VEVENT
BEGIN:VEVENT
DTSTART;TZID=America/New_York:20250711T110000
DTEND;TZID=America/New_York:20250711T120000
DTSTAMP:20260420T011405
CREATED:20250627T135351Z
LAST-MODIFIED:20250627T135351Z
UID:56506-1752231600-1752235200@www.smhfit.com
SUMMARY:AquaZen
DESCRIPTION:Aquatics Class
URL:https://www.smhfit.com/event/aquazen-61/
END:VEVENT
BEGIN:VEVENT
DTSTART;TZID=America/New_York:20250711T110000
DTEND;TZID=America/New_York:20250711T120000
DTSTAMP:20260420T011405
CREATED:20250627T135355Z
LAST-MODIFIED:20250627T135355Z
UID:56507-1752231600-1752235200@www.smhfit.com
SUMMARY:Multi-Level Yoga
DESCRIPTION:
URL:https://www.smhfit.com/event/multi-level-yoga-56/
END:VEVENT
BEGIN:VEVENT
DTSTART;TZID=America/New_York:20250711T110000
DTEND;TZID=America/New_York:20250711T120000
DTSTAMP:20260420T011405
CREATED:20250627T135356Z
LAST-MODIFIED:20250627T135356Z
UID:56508-1752231600-1752235200@www.smhfit.com
SUMMARY:Rock Steady Boxing
DESCRIPTION:
URL:https://www.smhfit.com/event/rock-steady-boxing-54/
END:VEVENT
BEGIN:VEVENT
DTSTART;TZID=America/New_York:20250711T120000
DTEND;TZID=America/New_York:20250711T130000
DTSTAMP:20260420T011405
CREATED:20250627T135546Z
LAST-MODIFIED:20250627T135546Z
UID:56509-1752235200-1752238800@www.smhfit.com
SUMMARY:PWR! Gym
DESCRIPTION:
URL:https://www.smhfit.com/event/pwr-gym-53/
END:VEVENT
BEGIN:VEVENT
DTSTART;TZID=America/New_York:20250711T140000
DTEND;TZID=America/New_York:20250711T150000
DTSTAMP:20260420T011405
CREATED:20250627T135549Z
LAST-MODIFIED:20250627T135549Z
UID:56510-1752242400-1752246000@www.smhfit.com
SUMMARY:Oncology Recovery Exercise
DESCRIPTION:
URL:https://www.smhfit.com/event/oncology-recovery-exercise-171/
END:VEVENT
END:VCALENDAR