BEGIN:VCALENDAR
VERSION:2.0
PRODID:-//HealthFit - ECPv6.15.20//NONSGML v1.0//EN
CALSCALE:GREGORIAN
METHOD:PUBLISH
X-ORIGINAL-URL:https://www.smhfit.com
X-WR-CALDESC:Events for HealthFit
REFRESH-INTERVAL;VALUE=DURATION:PT1H
X-Robots-Tag:noindex
X-PUBLISHED-TTL:PT1H
BEGIN:VTIMEZONE
TZID:America/New_York
BEGIN:DAYLIGHT
TZOFFSETFROM:-0500
TZOFFSETTO:-0400
TZNAME:EDT
DTSTART:20240310T070000
END:DAYLIGHT
BEGIN:STANDARD
TZOFFSETFROM:-0400
TZOFFSETTO:-0500
TZNAME:EST
DTSTART:20241103T060000
END:STANDARD
BEGIN:DAYLIGHT
TZOFFSETFROM:-0500
TZOFFSETTO:-0400
TZNAME:EDT
DTSTART:20250309T070000
END:DAYLIGHT
BEGIN:STANDARD
TZOFFSETFROM:-0400
TZOFFSETTO:-0500
TZNAME:EST
DTSTART:20251102T060000
END:STANDARD
BEGIN:DAYLIGHT
TZOFFSETFROM:-0500
TZOFFSETTO:-0400
TZNAME:EDT
DTSTART:20260308T070000
END:DAYLIGHT
BEGIN:STANDARD
TZOFFSETFROM:-0400
TZOFFSETTO:-0500
TZNAME:EST
DTSTART:20261101T060000
END:STANDARD
END:VTIMEZONE
BEGIN:VEVENT
DTSTART;TZID=America/New_York:20250709T060000
DTEND;TZID=America/New_York:20250709T070000
DTSTAMP:20260420T011417
CREATED:20250627T134655Z
LAST-MODIFIED:20250627T134655Z
UID:56475-1752040800-1752044400@www.smhfit.com
SUMMARY:Spin
DESCRIPTION:
URL:https://www.smhfit.com/event/spin-738/
END:VEVENT
BEGIN:VEVENT
DTSTART;TZID=America/New_York:20250709T080000
DTEND;TZID=America/New_York:20250709T090000
DTSTAMP:20260420T011417
CREATED:20250627T134657Z
LAST-MODIFIED:20250627T134657Z
UID:56476-1752048000-1752051600@www.smhfit.com
SUMMARY:BodyFit
DESCRIPTION:
URL:https://www.smhfit.com/event/bodyfit-100/
END:VEVENT
BEGIN:VEVENT
DTSTART;TZID=America/New_York:20250709T090000
DTEND;TZID=America/New_York:20250709T100000
DTSTAMP:20260420T011417
CREATED:20250627T134701Z
LAST-MODIFIED:20250627T134701Z
UID:56477-1752051600-1752055200@www.smhfit.com
SUMMARY:Mat Pilates
DESCRIPTION:
URL:https://www.smhfit.com/event/mat-pilates-173/
END:VEVENT
BEGIN:VEVENT
DTSTART;TZID=America/New_York:20250709T090000
DTEND;TZID=America/New_York:20250709T100000
DTSTAMP:20260420T011417
CREATED:20250627T134704Z
LAST-MODIFIED:20250627T134704Z
UID:56478-1752051600-1752055200@www.smhfit.com
SUMMARY:Spin
DESCRIPTION:
URL:https://www.smhfit.com/event/spin-739/
END:VEVENT
BEGIN:VEVENT
DTSTART;TZID=America/New_York:20250709T090000
DTEND;TZID=America/New_York:20250709T100000
DTSTAMP:20260420T011417
CREATED:20250627T134712Z
LAST-MODIFIED:20250627T134712Z
UID:56479-1752051600-1752055200@www.smhfit.com
SUMMARY:TRX
DESCRIPTION:
URL:https://www.smhfit.com/event/trx-138/
END:VEVENT
BEGIN:VEVENT
DTSTART;TZID=America/New_York:20250709T100000
DTEND;TZID=America/New_York:20250709T110000
DTSTAMP:20260420T011417
CREATED:20250627T134714Z
LAST-MODIFIED:20250627T134714Z
UID:56480-1752055200-1752058800@www.smhfit.com
SUMMARY:Aqua Challenge
DESCRIPTION:Aqua Class
URL:https://www.smhfit.com/event/aqua-challenge-568/
END:VEVENT
BEGIN:VEVENT
DTSTART;TZID=America/New_York:20250709T100000
DTEND;TZID=America/New_York:20250709T110000
DTSTAMP:20260420T011417
CREATED:20250627T134717Z
LAST-MODIFIED:20250627T134717Z
UID:56481-1752055200-1752058800@www.smhfit.com
SUMMARY:Oncology Recovery Exercise
DESCRIPTION:
URL:https://www.smhfit.com/event/oncology-recovery-exercise-170/
END:VEVENT
BEGIN:VEVENT
DTSTART;TZID=America/New_York:20250709T110000
DTEND;TZID=America/New_York:20250709T120000
DTSTAMP:20260420T011417
CREATED:20250627T134720Z
LAST-MODIFIED:20250627T134720Z
UID:56482-1752058800-1752062400@www.smhfit.com
SUMMARY:Therapeutic Yoga
DESCRIPTION:
URL:https://www.smhfit.com/event/therapeutic-yoga-98/
END:VEVENT
BEGIN:VEVENT
DTSTART;TZID=America/New_York:20250709T110000
DTEND;TZID=America/New_York:20250709T120000
DTSTAMP:20260420T011417
CREATED:20250627T134721Z
LAST-MODIFIED:20250627T134721Z
UID:56483-1752058800-1752062400@www.smhfit.com
SUMMARY:Rock Steady Boxing
DESCRIPTION:
URL:https://www.smhfit.com/event/rock-steady-boxing-53/
END:VEVENT
BEGIN:VEVENT
DTSTART;TZID=America/New_York:20250709T120000
DTEND;TZID=America/New_York:20250709T130000
DTSTAMP:20260420T011417
CREATED:20250627T134726Z
LAST-MODIFIED:20250627T134726Z
UID:56484-1752062400-1752066000@www.smhfit.com
SUMMARY:PWR! Gym
DESCRIPTION:
URL:https://www.smhfit.com/event/pwr-gym-52/
END:VEVENT
BEGIN:VEVENT
DTSTART;TZID=America/New_York:20250709T120000
DTEND;TZID=America/New_York:20250709T130000
DTSTAMP:20260420T011417
CREATED:20250627T134729Z
LAST-MODIFIED:20250627T134729Z
UID:56485-1752062400-1752066000@www.smhfit.com
SUMMARY:FUNctional Fitness
DESCRIPTION:
URL:https://www.smhfit.com/event/functional-fitness-125/
END:VEVENT
BEGIN:VEVENT
DTSTART;TZID=America/New_York:20250709T140000
DTEND;TZID=America/New_York:20250709T150000
DTSTAMP:20260420T011417
CREATED:20250627T134730Z
LAST-MODIFIED:20250627T134730Z
UID:56486-1752069600-1752073200@www.smhfit.com
SUMMARY:Chair Yoga
DESCRIPTION:
URL:https://www.smhfit.com/event/chair-yoga-205/
END:VEVENT
BEGIN:VEVENT
DTSTART;TZID=America/New_York:20250709T160000
DTEND;TZID=America/New_York:20250709T170000
DTSTAMP:20260420T011417
CREATED:20250627T134736Z
LAST-MODIFIED:20250627T134736Z
UID:56488-1752076800-1752080400@www.smhfit.com
SUMMARY:HIIT & Core
DESCRIPTION:
URL:https://www.smhfit.com/event/hiit-core-150/
END:VEVENT
BEGIN:VEVENT
DTSTART;TZID=America/New_York:20250709T170000
DTEND;TZID=America/New_York:20250709T180000
DTSTAMP:20260420T011417
CREATED:20250627T134734Z
LAST-MODIFIED:20250627T134734Z
UID:56487-1752080400-1752084000@www.smhfit.com
SUMMARY:Gentle Yoga
DESCRIPTION:
URL:https://www.smhfit.com/event/gentle-yoga-51/
END:VEVENT
BEGIN:VEVENT
DTSTART;TZID=America/New_York:20250709T173000
DTEND;TZID=America/New_York:20250709T183000
DTSTAMP:20260420T011417
CREATED:20250627T134744Z
LAST-MODIFIED:20250627T134744Z
UID:56489-1752082200-1752085800@www.smhfit.com
SUMMARY:Powerplex
DESCRIPTION:
URL:https://www.smhfit.com/event/powerplex-98/
END:VEVENT
END:VCALENDAR