BEGIN:VCALENDAR
VERSION:2.0
PRODID:-//HealthFit - ECPv6.15.20//NONSGML v1.0//EN
CALSCALE:GREGORIAN
METHOD:PUBLISH
X-WR-CALNAME:HealthFit
X-ORIGINAL-URL:https://www.smhfit.com
X-WR-CALDESC:Events for HealthFit
REFRESH-INTERVAL;VALUE=DURATION:PT1H
X-Robots-Tag:noindex
X-PUBLISHED-TTL:PT1H
BEGIN:VTIMEZONE
TZID:America/New_York
BEGIN:DAYLIGHT
TZOFFSETFROM:-0500
TZOFFSETTO:-0400
TZNAME:EDT
DTSTART:20240310T070000
END:DAYLIGHT
BEGIN:STANDARD
TZOFFSETFROM:-0400
TZOFFSETTO:-0500
TZNAME:EST
DTSTART:20241103T060000
END:STANDARD
BEGIN:DAYLIGHT
TZOFFSETFROM:-0500
TZOFFSETTO:-0400
TZNAME:EDT
DTSTART:20250309T070000
END:DAYLIGHT
BEGIN:STANDARD
TZOFFSETFROM:-0400
TZOFFSETTO:-0500
TZNAME:EST
DTSTART:20251102T060000
END:STANDARD
BEGIN:DAYLIGHT
TZOFFSETFROM:-0500
TZOFFSETTO:-0400
TZNAME:EDT
DTSTART:20260308T070000
END:DAYLIGHT
BEGIN:STANDARD
TZOFFSETFROM:-0400
TZOFFSETTO:-0500
TZNAME:EST
DTSTART:20261101T060000
END:STANDARD
END:VTIMEZONE
BEGIN:VEVENT
DTSTART;TZID=America/New_York:20250628T090000
DTEND;TZID=America/New_York:20250628T100000
DTSTAMP:20260419T232814
CREATED:20250602T131303Z
LAST-MODIFIED:20250602T131303Z
UID:56380-1751101200-1751104800@www.smhfit.com
SUMMARY:Spin
DESCRIPTION:
URL:https://www.smhfit.com/event/spin-730/
END:VEVENT
BEGIN:VEVENT
DTSTART;TZID=America/New_York:20250628T090000
DTEND;TZID=America/New_York:20250628T100000
DTSTAMP:20260419T232814
CREATED:20250602T131306Z
LAST-MODIFIED:20250602T131306Z
UID:56381-1751101200-1751104800@www.smhfit.com
SUMMARY:HIIT & Core
DESCRIPTION:
URL:https://www.smhfit.com/event/hiit-core-147/
END:VEVENT
BEGIN:VEVENT
DTSTART;TZID=America/New_York:20250628T100000
DTEND;TZID=America/New_York:20250628T110000
DTSTAMP:20260419T232814
CREATED:20250602T131308Z
LAST-MODIFIED:20250602T131308Z
UID:56382-1751104800-1751108400@www.smhfit.com
SUMMARY:Yoga
DESCRIPTION:
URL:https://www.smhfit.com/event/yoga-145/
END:VEVENT
BEGIN:VEVENT
DTSTART;TZID=America/New_York:20250628T100000
DTEND;TZID=America/New_York:20250628T110000
DTSTAMP:20260419T232814
CREATED:20250602T131310Z
LAST-MODIFIED:20250602T131310Z
UID:56383-1751104800-1751108400@www.smhfit.com
SUMMARY:Aqua Challenge
DESCRIPTION:Aquatic Class
URL:https://www.smhfit.com/event/aqua-challenge-559/
END:VEVENT
BEGIN:VEVENT
DTSTART;TZID=America/New_York:20250628T110000
DTEND;TZID=America/New_York:20250628T120000
DTSTAMP:20260419T232814
CREATED:20250602T131316Z
LAST-MODIFIED:20250602T131316Z
UID:56384-1751108400-1751112000@www.smhfit.com
SUMMARY:Oncology Qi Gong
DESCRIPTION:
URL:https://www.smhfit.com/event/oncology-qi-gong-98/
END:VEVENT
END:VCALENDAR