BEGIN:VCALENDAR
VERSION:2.0
PRODID:-//HealthFit - ECPv6.15.20//NONSGML v1.0//EN
CALSCALE:GREGORIAN
METHOD:PUBLISH
X-ORIGINAL-URL:https://www.smhfit.com
X-WR-CALDESC:Events for HealthFit
REFRESH-INTERVAL;VALUE=DURATION:PT1H
X-Robots-Tag:noindex
X-PUBLISHED-TTL:PT1H
BEGIN:VTIMEZONE
TZID:America/New_York
BEGIN:DAYLIGHT
TZOFFSETFROM:-0500
TZOFFSETTO:-0400
TZNAME:EDT
DTSTART:20230312T070000
END:DAYLIGHT
BEGIN:STANDARD
TZOFFSETFROM:-0400
TZOFFSETTO:-0500
TZNAME:EST
DTSTART:20231105T060000
END:STANDARD
BEGIN:DAYLIGHT
TZOFFSETFROM:-0500
TZOFFSETTO:-0400
TZNAME:EDT
DTSTART:20240310T070000
END:DAYLIGHT
BEGIN:STANDARD
TZOFFSETFROM:-0400
TZOFFSETTO:-0500
TZNAME:EST
DTSTART:20241103T060000
END:STANDARD
BEGIN:DAYLIGHT
TZOFFSETFROM:-0500
TZOFFSETTO:-0400
TZNAME:EDT
DTSTART:20250309T070000
END:DAYLIGHT
BEGIN:STANDARD
TZOFFSETFROM:-0400
TZOFFSETTO:-0500
TZNAME:EST
DTSTART:20251102T060000
END:STANDARD
BEGIN:DAYLIGHT
TZOFFSETFROM:-0500
TZOFFSETTO:-0400
TZNAME:EDT
DTSTART:20260308T070000
END:DAYLIGHT
BEGIN:STANDARD
TZOFFSETFROM:-0400
TZOFFSETTO:-0500
TZNAME:EST
DTSTART:20261101T060000
END:STANDARD
END:VTIMEZONE
BEGIN:VTIMEZONE
TZID:America/Halifax
BEGIN:DAYLIGHT
TZOFFSETFROM:-0400
TZOFFSETTO:-0300
TZNAME:ADT
DTSTART:20230312T060000
END:DAYLIGHT
BEGIN:STANDARD
TZOFFSETFROM:-0300
TZOFFSETTO:-0400
TZNAME:AST
DTSTART:20231105T050000
END:STANDARD
BEGIN:DAYLIGHT
TZOFFSETFROM:-0400
TZOFFSETTO:-0300
TZNAME:ADT
DTSTART:20240310T060000
END:DAYLIGHT
BEGIN:STANDARD
TZOFFSETFROM:-0300
TZOFFSETTO:-0400
TZNAME:AST
DTSTART:20241103T050000
END:STANDARD
BEGIN:DAYLIGHT
TZOFFSETFROM:-0400
TZOFFSETTO:-0300
TZNAME:ADT
DTSTART:20250309T060000
END:DAYLIGHT
BEGIN:STANDARD
TZOFFSETFROM:-0300
TZOFFSETTO:-0400
TZNAME:AST
DTSTART:20251102T050000
END:STANDARD
END:VTIMEZONE
BEGIN:VEVENT
DTSTART;TZID=America/New_York:20240403T160000
DTEND;TZID=America/New_York:20250403T170000
DTSTAMP:20260425T201733
CREATED:20250416T153743Z
LAST-MODIFIED:20250416T153743Z
UID:55333-1712160000-1743699600@www.smhfit.com
SUMMARY:Yin Yoga
DESCRIPTION:
URL:https://www.smhfit.com/event/yin-yoga/
END:VEVENT
BEGIN:VEVENT
DTSTART;TZID=America/New_York:20240711T100000
DTEND;TZID=America/New_York:20250502T133301
DTSTAMP:20260425T201733
CREATED:20240626T144804Z
LAST-MODIFIED:20240626T144804Z
UID:53458-1720692000-1746192781@www.smhfit.com
SUMMARY:Total Body Tone
DESCRIPTION:
URL:https://www.smhfit.com/event/total-body-tone-141/
END:VEVENT
BEGIN:VEVENT
DTSTART;TZID=America/New_York:20240711T100000
DTEND;TZID=America/New_York:20250502T133302
DTSTAMP:20260425T201733
CREATED:20240626T145200Z
LAST-MODIFIED:20240626T145200Z
UID:53459-1720692000-1746192782@www.smhfit.com
SUMMARY:Total Body Tone
DESCRIPTION:
URL:https://www.smhfit.com/event/total-body-tone-142/
END:VEVENT
BEGIN:VEVENT
DTSTART;TZID=America/Halifax:20241015T060000
DTEND;TZID=America/Halifax:20241015T070000
DTSTAMP:20260425T201733
CREATED:20240926T161146Z
LAST-MODIFIED:20240926T161146Z
UID:54310-1728972000-1728975600@www.smhfit.com
SUMMARY:Morning Crunch
DESCRIPTION:
URL:https://www.smhfit.com/event/morning-crunch-103/
END:VEVENT
BEGIN:VEVENT
DTSTART;TZID=America/Halifax:20241015T090000
DTEND;TZID=America/Halifax:20241015T100000
DTSTAMP:20260425T201733
CREATED:20240926T161147Z
LAST-MODIFIED:20240926T161147Z
UID:54311-1728982800-1728986400@www.smhfit.com
SUMMARY:Chair Yoga
DESCRIPTION:
URL:https://www.smhfit.com/event/chair-yoga-166/
END:VEVENT
BEGIN:VEVENT
DTSTART;TZID=America/Halifax:20241015T090000
DTEND;TZID=America/Halifax:20241015T100000
DTSTAMP:20260425T201733
CREATED:20240926T161148Z
LAST-MODIFIED:20240926T161148Z
UID:54312-1728982800-1728986400@www.smhfit.com
SUMMARY:Zumba
DESCRIPTION:
URL:https://www.smhfit.com/event/zumba-76/
END:VEVENT
BEGIN:VEVENT
DTSTART;TZID=America/Halifax:20241015T100000
DTEND;TZID=America/Halifax:20241015T110000
DTSTAMP:20260425T201733
CREATED:20240926T161149Z
LAST-MODIFIED:20240926T161149Z
UID:54313-1728986400-1728990000@www.smhfit.com
SUMMARY:Aqua Challenge
DESCRIPTION:Aquatic Class
URL:https://www.smhfit.com/event/aqua-challenge-468/
END:VEVENT
BEGIN:VEVENT
DTSTART;TZID=America/Halifax:20241015T100000
DTEND;TZID=America/Halifax:20241015T110000
DTSTAMP:20260425T201733
CREATED:20240926T161150Z
LAST-MODIFIED:20240926T161150Z
UID:54314-1728986400-1728990000@www.smhfit.com
SUMMARY:Total Body Tone
DESCRIPTION:
URL:https://www.smhfit.com/event/total-body-tone-163/
END:VEVENT
BEGIN:VEVENT
DTSTART;TZID=America/Halifax:20241015T100000
DTEND;TZID=America/Halifax:20241015T110000
DTSTAMP:20260425T201733
CREATED:20240926T161646Z
LAST-MODIFIED:20240926T161646Z
UID:54315-1728986400-1728990000@www.smhfit.com
SUMMARY:Qi Gong
DESCRIPTION:
URL:https://www.smhfit.com/event/qi-gong-78/
END:VEVENT
BEGIN:VEVENT
DTSTART;TZID=America/Halifax:20241015T130000
DTEND;TZID=America/Halifax:20241015T133000
DTSTAMP:20260425T201733
CREATED:20240926T161647Z
LAST-MODIFIED:20240926T161647Z
UID:54316-1728997200-1728999000@www.smhfit.com
SUMMARY:Whopping Movers
DESCRIPTION:
URL:https://www.smhfit.com/event/whopping-movers-207/
END:VEVENT
BEGIN:VEVENT
DTSTART;TZID=America/Halifax:20241015T160000
DTEND;TZID=America/Halifax:20241015T170000
DTSTAMP:20260425T201733
CREATED:20240926T161648Z
LAST-MODIFIED:20240926T161648Z
UID:54317-1729008000-1729011600@www.smhfit.com
SUMMARY:Body Barre
DESCRIPTION:
URL:https://www.smhfit.com/event/body-barre-49/
END:VEVENT
BEGIN:VEVENT
DTSTART;TZID=America/Halifax:20241015T170000
DTEND;TZID=America/Halifax:20241015T180000
DTSTAMP:20260425T201733
CREATED:20240926T161649Z
LAST-MODIFIED:20240926T161649Z
UID:54318-1729011600-1729015200@www.smhfit.com
SUMMARY:Spin Speed
DESCRIPTION:
URL:https://www.smhfit.com/event/spin-speed-25/
END:VEVENT
BEGIN:VEVENT
DTSTART;TZID=America/Halifax:20241015T170000
DTEND;TZID=America/Halifax:20241015T180000
DTSTAMP:20260425T201733
CREATED:20240926T161650Z
LAST-MODIFIED:20240926T161650Z
UID:54319-1729011600-1729015200@www.smhfit.com
SUMMARY:Fundamental Yoga
DESCRIPTION:
URL:https://www.smhfit.com/event/fundamental-yoga-60/
END:VEVENT
BEGIN:VEVENT
DTSTART;TZID=America/Halifax:20241015T174500
DTEND;TZID=America/Halifax:20241015T183000
DTSTAMP:20260425T201733
CREATED:20240926T161700Z
LAST-MODIFIED:20240926T161700Z
UID:54320-1729014300-1729017000@www.smhfit.com
SUMMARY:SHRED
DESCRIPTION:
URL:https://www.smhfit.com/event/shred-92/
END:VEVENT
BEGIN:VEVENT
DTSTART;TZID=America/Halifax:20241015T180000
DTEND;TZID=America/Halifax:20241015T190000
DTSTAMP:20260425T201733
CREATED:20240926T161701Z
LAST-MODIFIED:20240926T161701Z
UID:54321-1729015200-1729018800@www.smhfit.com
SUMMARY:Aqua Tone
DESCRIPTION:Aquatic Class
URL:https://www.smhfit.com/event/aqua-tone-135/
END:VEVENT
END:VCALENDAR