BEGIN:VCALENDAR
VERSION:2.0
PRODID:-//HealthFit - ECPv6.15.20//NONSGML v1.0//EN
CALSCALE:GREGORIAN
METHOD:PUBLISH
X-WR-CALNAME:HealthFit
X-ORIGINAL-URL:https://www.smhfit.com
X-WR-CALDESC:Events for HealthFit
REFRESH-INTERVAL;VALUE=DURATION:PT1H
X-Robots-Tag:noindex
X-PUBLISHED-TTL:PT1H
BEGIN:VTIMEZONE
TZID:America/New_York
BEGIN:DAYLIGHT
TZOFFSETFROM:-0500
TZOFFSETTO:-0400
TZNAME:EDT
DTSTART:20230312T070000
END:DAYLIGHT
BEGIN:STANDARD
TZOFFSETFROM:-0400
TZOFFSETTO:-0500
TZNAME:EST
DTSTART:20231105T060000
END:STANDARD
BEGIN:DAYLIGHT
TZOFFSETFROM:-0500
TZOFFSETTO:-0400
TZNAME:EDT
DTSTART:20240310T070000
END:DAYLIGHT
BEGIN:STANDARD
TZOFFSETFROM:-0400
TZOFFSETTO:-0500
TZNAME:EST
DTSTART:20241103T060000
END:STANDARD
BEGIN:DAYLIGHT
TZOFFSETFROM:-0500
TZOFFSETTO:-0400
TZNAME:EDT
DTSTART:20250309T070000
END:DAYLIGHT
BEGIN:STANDARD
TZOFFSETFROM:-0400
TZOFFSETTO:-0500
TZNAME:EST
DTSTART:20251102T060000
END:STANDARD
BEGIN:DAYLIGHT
TZOFFSETFROM:-0500
TZOFFSETTO:-0400
TZNAME:EDT
DTSTART:20260308T070000
END:DAYLIGHT
BEGIN:STANDARD
TZOFFSETFROM:-0400
TZOFFSETTO:-0500
TZNAME:EST
DTSTART:20261101T060000
END:STANDARD
END:VTIMEZONE
BEGIN:VTIMEZONE
TZID:America/Halifax
BEGIN:DAYLIGHT
TZOFFSETFROM:-0400
TZOFFSETTO:-0300
TZNAME:ADT
DTSTART:20230312T060000
END:DAYLIGHT
BEGIN:STANDARD
TZOFFSETFROM:-0300
TZOFFSETTO:-0400
TZNAME:AST
DTSTART:20231105T050000
END:STANDARD
BEGIN:DAYLIGHT
TZOFFSETFROM:-0400
TZOFFSETTO:-0300
TZNAME:ADT
DTSTART:20240310T060000
END:DAYLIGHT
BEGIN:STANDARD
TZOFFSETFROM:-0300
TZOFFSETTO:-0400
TZNAME:AST
DTSTART:20241103T050000
END:STANDARD
BEGIN:DAYLIGHT
TZOFFSETFROM:-0400
TZOFFSETTO:-0300
TZNAME:ADT
DTSTART:20250309T060000
END:DAYLIGHT
BEGIN:STANDARD
TZOFFSETFROM:-0300
TZOFFSETTO:-0400
TZNAME:AST
DTSTART:20251102T050000
END:STANDARD
END:VTIMEZONE
BEGIN:VEVENT
DTSTART;TZID=America/New_York:20240403T160000
DTEND;TZID=America/New_York:20250403T170000
DTSTAMP:20260424T010204
CREATED:20250416T153743Z
LAST-MODIFIED:20250416T153743Z
UID:55333-1712160000-1743699600@www.smhfit.com
SUMMARY:Yin Yoga
DESCRIPTION:
URL:https://www.smhfit.com/event/yin-yoga/
END:VEVENT
BEGIN:VEVENT
DTSTART;TZID=America/New_York:20240711T100000
DTEND;TZID=America/New_York:20250502T133301
DTSTAMP:20260424T010204
CREATED:20240626T144804Z
LAST-MODIFIED:20240626T144804Z
UID:53458-1720692000-1746192781@www.smhfit.com
SUMMARY:Total Body Tone
DESCRIPTION:
URL:https://www.smhfit.com/event/total-body-tone-141/
END:VEVENT
BEGIN:VEVENT
DTSTART;TZID=America/New_York:20240711T100000
DTEND;TZID=America/New_York:20250502T133302
DTSTAMP:20260424T010204
CREATED:20240626T145200Z
LAST-MODIFIED:20240626T145200Z
UID:53459-1720692000-1746192782@www.smhfit.com
SUMMARY:Total Body Tone
DESCRIPTION:
URL:https://www.smhfit.com/event/total-body-tone-142/
END:VEVENT
BEGIN:VEVENT
DTSTART;TZID=America/Halifax:20241009T060000
DTEND;TZID=America/Halifax:20241009T070000
DTSTAMP:20260424T010204
CREATED:20240926T155412Z
LAST-MODIFIED:20240926T203710Z
UID:54262-1728453600-1728457200@www.smhfit.com
SUMMARY:Spin
DESCRIPTION:
URL:https://www.smhfit.com/event/spin-640/
END:VEVENT
BEGIN:VEVENT
DTSTART;TZID=America/Halifax:20241009T080000
DTEND;TZID=America/Halifax:20241009T090000
DTSTAMP:20260424T010204
CREATED:20240926T155416Z
LAST-MODIFIED:20240926T203711Z
UID:54263-1728460800-1728464400@www.smhfit.com
SUMMARY:BodyFit
DESCRIPTION:
URL:https://www.smhfit.com/event/bodyfit-81/
END:VEVENT
BEGIN:VEVENT
DTSTART;TZID=America/Halifax:20241009T090000
DTEND;TZID=America/Halifax:20241009T100000
DTSTAMP:20260424T010204
CREATED:20240926T155418Z
LAST-MODIFIED:20240926T203712Z
UID:54264-1728464400-1728468000@www.smhfit.com
SUMMARY:Mat Pilates
DESCRIPTION:
URL:https://www.smhfit.com/event/mat-pilates-143/
END:VEVENT
BEGIN:VEVENT
DTSTART;TZID=America/Halifax:20241009T090000
DTEND;TZID=America/Halifax:20241009T100000
DTSTAMP:20260424T010204
CREATED:20240926T155613Z
LAST-MODIFIED:20240926T203910Z
UID:54265-1728464400-1728468000@www.smhfit.com
SUMMARY:Spin
DESCRIPTION:
URL:https://www.smhfit.com/event/spin-641/
END:VEVENT
BEGIN:VEVENT
DTSTART;TZID=America/Halifax:20241009T100000
DTEND;TZID=America/Halifax:20241009T110000
DTSTAMP:20260424T010204
CREATED:20240926T155614Z
LAST-MODIFIED:20240926T203911Z
UID:54266-1728468000-1728471600@www.smhfit.com
SUMMARY:Aqua Challenge
DESCRIPTION:Aqua Class
URL:https://www.smhfit.com/event/aqua-challenge-464/
END:VEVENT
BEGIN:VEVENT
DTSTART;TZID=America/Halifax:20241009T100000
DTEND;TZID=America/Halifax:20241009T110000
DTSTAMP:20260424T010204
CREATED:20240926T155615Z
LAST-MODIFIED:20240926T203911Z
UID:54267-1728468000-1728471600@www.smhfit.com
SUMMARY:TRX
DESCRIPTION:
URL:https://www.smhfit.com/event/trx-127/
END:VEVENT
BEGIN:VEVENT
DTSTART;TZID=America/Halifax:20241009T100000
DTEND;TZID=America/Halifax:20241009T110000
DTSTAMP:20260424T010204
CREATED:20240926T155616Z
LAST-MODIFIED:20240926T203912Z
UID:54268-1728468000-1728471600@www.smhfit.com
SUMMARY:Oncology Recovery Exercise
DESCRIPTION:
URL:https://www.smhfit.com/event/oncology-recovery-exercise-131/
END:VEVENT
BEGIN:VEVENT
DTSTART;TZID=America/Halifax:20241009T110000
DTEND;TZID=America/Halifax:20241009T120000
DTSTAMP:20260424T010204
CREATED:20240926T155617Z
LAST-MODIFIED:20240926T203913Z
UID:54269-1728471600-1728475200@www.smhfit.com
SUMMARY:Therapeutic Yoga
DESCRIPTION:
URL:https://www.smhfit.com/event/therapeutic-yoga-79/
END:VEVENT
BEGIN:VEVENT
DTSTART;TZID=America/Halifax:20241009T120000
DTEND;TZID=America/Halifax:20241009T130000
DTSTAMP:20260424T010204
CREATED:20240926T155812Z
LAST-MODIFIED:20240926T204110Z
UID:54270-1728475200-1728478800@www.smhfit.com
SUMMARY:FUNctional Fitness
DESCRIPTION:
URL:https://www.smhfit.com/event/functional-fitness-107/
END:VEVENT
BEGIN:VEVENT
DTSTART;TZID=America/Halifax:20241009T140000
DTEND;TZID=America/Halifax:20241009T150000
DTSTAMP:20260424T010204
CREATED:20240926T155813Z
LAST-MODIFIED:20240926T204111Z
UID:54271-1728482400-1728486000@www.smhfit.com
SUMMARY:Chair Yoga
DESCRIPTION:
URL:https://www.smhfit.com/event/chair-yoga-164/
END:VEVENT
BEGIN:VEVENT
DTSTART;TZID=America/Halifax:20241009T160000
DTEND;TZID=America/Halifax:20241009T170000
DTSTAMP:20260424T010204
CREATED:20240926T155815Z
LAST-MODIFIED:20240926T204112Z
UID:54273-1728489600-1728493200@www.smhfit.com
SUMMARY:HIIT & Core
DESCRIPTION:
URL:https://www.smhfit.com/event/hiit-core-106/
END:VEVENT
BEGIN:VEVENT
DTSTART;TZID=America/Halifax:20241009T170000
DTEND;TZID=America/Halifax:20241009T180000
DTSTAMP:20260424T010204
CREATED:20240926T155814Z
LAST-MODIFIED:20240926T204111Z
UID:54272-1728493200-1728496800@www.smhfit.com
SUMMARY:Gentle Yoga
DESCRIPTION:
URL:https://www.smhfit.com/event/gentle-yoga-26/
END:VEVENT
END:VCALENDAR