BEGIN:VCALENDAR
VERSION:2.0
PRODID:-//HealthFit - ECPv6.15.20//NONSGML v1.0//EN
CALSCALE:GREGORIAN
METHOD:PUBLISH
X-ORIGINAL-URL:https://www.smhfit.com
X-WR-CALDESC:Events for HealthFit
REFRESH-INTERVAL;VALUE=DURATION:PT1H
X-Robots-Tag:noindex
X-PUBLISHED-TTL:PT1H
BEGIN:VTIMEZONE
TZID:America/New_York
BEGIN:DAYLIGHT
TZOFFSETFROM:-0500
TZOFFSETTO:-0400
TZNAME:EDT
DTSTART:20230312T070000
END:DAYLIGHT
BEGIN:STANDARD
TZOFFSETFROM:-0400
TZOFFSETTO:-0500
TZNAME:EST
DTSTART:20231105T060000
END:STANDARD
BEGIN:DAYLIGHT
TZOFFSETFROM:-0500
TZOFFSETTO:-0400
TZNAME:EDT
DTSTART:20240310T070000
END:DAYLIGHT
BEGIN:STANDARD
TZOFFSETFROM:-0400
TZOFFSETTO:-0500
TZNAME:EST
DTSTART:20241103T060000
END:STANDARD
BEGIN:DAYLIGHT
TZOFFSETFROM:-0500
TZOFFSETTO:-0400
TZNAME:EDT
DTSTART:20250309T070000
END:DAYLIGHT
BEGIN:STANDARD
TZOFFSETFROM:-0400
TZOFFSETTO:-0500
TZNAME:EST
DTSTART:20251102T060000
END:STANDARD
BEGIN:DAYLIGHT
TZOFFSETFROM:-0500
TZOFFSETTO:-0400
TZNAME:EDT
DTSTART:20260308T070000
END:DAYLIGHT
BEGIN:STANDARD
TZOFFSETFROM:-0400
TZOFFSETTO:-0500
TZNAME:EST
DTSTART:20261101T060000
END:STANDARD
END:VTIMEZONE
BEGIN:VTIMEZONE
TZID:America/Halifax
BEGIN:DAYLIGHT
TZOFFSETFROM:-0400
TZOFFSETTO:-0300
TZNAME:ADT
DTSTART:20230312T060000
END:DAYLIGHT
BEGIN:STANDARD
TZOFFSETFROM:-0300
TZOFFSETTO:-0400
TZNAME:AST
DTSTART:20231105T050000
END:STANDARD
BEGIN:DAYLIGHT
TZOFFSETFROM:-0400
TZOFFSETTO:-0300
TZNAME:ADT
DTSTART:20240310T060000
END:DAYLIGHT
BEGIN:STANDARD
TZOFFSETFROM:-0300
TZOFFSETTO:-0400
TZNAME:AST
DTSTART:20241103T050000
END:STANDARD
BEGIN:DAYLIGHT
TZOFFSETFROM:-0400
TZOFFSETTO:-0300
TZNAME:ADT
DTSTART:20250309T060000
END:DAYLIGHT
BEGIN:STANDARD
TZOFFSETFROM:-0300
TZOFFSETTO:-0400
TZNAME:AST
DTSTART:20251102T050000
END:STANDARD
END:VTIMEZONE
BEGIN:VEVENT
DTSTART;TZID=America/New_York:20240403T160000
DTEND;TZID=America/New_York:20250403T170000
DTSTAMP:20260423T232206
CREATED:20250416T153743Z
LAST-MODIFIED:20250416T153743Z
UID:55333-1712160000-1743699600@www.smhfit.com
SUMMARY:Yin Yoga
DESCRIPTION:
URL:https://www.smhfit.com/event/yin-yoga/
END:VEVENT
BEGIN:VEVENT
DTSTART;TZID=America/New_York:20240711T100000
DTEND;TZID=America/New_York:20250502T133301
DTSTAMP:20260423T232206
CREATED:20240626T144804Z
LAST-MODIFIED:20240626T144804Z
UID:53458-1720692000-1746192781@www.smhfit.com
SUMMARY:Total Body Tone
DESCRIPTION:
URL:https://www.smhfit.com/event/total-body-tone-141/
END:VEVENT
BEGIN:VEVENT
DTSTART;TZID=America/New_York:20240711T100000
DTEND;TZID=America/New_York:20250502T133302
DTSTAMP:20260423T232206
CREATED:20240626T145200Z
LAST-MODIFIED:20240626T145200Z
UID:53459-1720692000-1746192782@www.smhfit.com
SUMMARY:Total Body Tone
DESCRIPTION:
URL:https://www.smhfit.com/event/total-body-tone-142/
END:VEVENT
BEGIN:VEVENT
DTSTART;TZID=America/Halifax:20241008T060000
DTEND;TZID=America/Halifax:20241008T070000
DTSTAMP:20260423T232206
CREATED:20240926T155339Z
LAST-MODIFIED:20240926T203453Z
UID:54250-1728367200-1728370800@www.smhfit.com
SUMMARY:Morning Crunch
DESCRIPTION:
URL:https://www.smhfit.com/event/morning-crunch-101/
END:VEVENT
BEGIN:VEVENT
DTSTART;TZID=America/Halifax:20241008T090000
DTEND;TZID=America/Halifax:20241008T100000
DTSTAMP:20260423T232206
CREATED:20240926T155340Z
LAST-MODIFIED:20240926T203454Z
UID:54251-1728378000-1728381600@www.smhfit.com
SUMMARY:Chair Yoga
DESCRIPTION:
URL:https://www.smhfit.com/event/chair-yoga-163/
END:VEVENT
BEGIN:VEVENT
DTSTART;TZID=America/Halifax:20241008T090000
DTEND;TZID=America/Halifax:20241008T100000
DTSTAMP:20260423T232206
CREATED:20240926T155341Z
LAST-MODIFIED:20240926T203455Z
UID:54252-1728378000-1728381600@www.smhfit.com
SUMMARY:Spin
DESCRIPTION:
URL:https://www.smhfit.com/event/spin-639/
END:VEVENT
BEGIN:VEVENT
DTSTART;TZID=America/Halifax:20241008T090000
DTEND;TZID=America/Halifax:20241008T100000
DTSTAMP:20260423T232206
CREATED:20240926T155345Z
LAST-MODIFIED:20240926T203455Z
UID:54253-1728378000-1728381600@www.smhfit.com
SUMMARY:Zumba
DESCRIPTION:
URL:https://www.smhfit.com/event/zumba-74/
END:VEVENT
BEGIN:VEVENT
DTSTART;TZID=America/Halifax:20241008T100000
DTEND;TZID=America/Halifax:20241008T110000
DTSTAMP:20260423T232206
CREATED:20240926T155347Z
LAST-MODIFIED:20240926T203456Z
UID:54254-1728381600-1728385200@www.smhfit.com
SUMMARY:Total Body Tone
DESCRIPTION:
URL:https://www.smhfit.com/event/total-body-tone-161/
END:VEVENT
BEGIN:VEVENT
DTSTART;TZID=America/Halifax:20241008T100000
DTEND;TZID=America/Halifax:20241008T110000
DTSTAMP:20260423T232206
CREATED:20240926T155355Z
LAST-MODIFIED:20240926T203508Z
UID:54255-1728381600-1728385200@www.smhfit.com
SUMMARY:Qi Gong
DESCRIPTION:
URL:https://www.smhfit.com/event/qi-gong-77/
END:VEVENT
BEGIN:VEVENT
DTSTART;TZID=America/Halifax:20241008T133000
DTEND;TZID=America/Halifax:20241008T143000
DTSTAMP:20260423T232206
CREATED:20240926T155356Z
LAST-MODIFIED:20240926T203509Z
UID:54256-1728394200-1728397800@www.smhfit.com
SUMMARY:Whopping Movers
DESCRIPTION:
URL:https://www.smhfit.com/event/whopping-movers-205/
END:VEVENT
BEGIN:VEVENT
DTSTART;TZID=America/Halifax:20241008T160000
DTEND;TZID=America/Halifax:20241008T170000
DTSTAMP:20260423T232206
CREATED:20240926T155357Z
LAST-MODIFIED:20240926T203509Z
UID:54257-1728403200-1728406800@www.smhfit.com
SUMMARY:Body Barre
DESCRIPTION:
URL:https://www.smhfit.com/event/body-barre-47/
END:VEVENT
BEGIN:VEVENT
DTSTART;TZID=America/Halifax:20241008T170000
DTEND;TZID=America/Halifax:20241008T180000
DTSTAMP:20260423T232206
CREATED:20240926T155400Z
LAST-MODIFIED:20240926T203509Z
UID:54258-1728406800-1728410400@www.smhfit.com
SUMMARY:Spin Speed
DESCRIPTION:
URL:https://www.smhfit.com/event/spin-speed-24/
END:VEVENT
BEGIN:VEVENT
DTSTART;TZID=America/Halifax:20241008T170000
DTEND;TZID=America/Halifax:20241008T180000
DTSTAMP:20260423T232206
CREATED:20240926T155401Z
LAST-MODIFIED:20240926T203512Z
UID:54259-1728406800-1728410400@www.smhfit.com
SUMMARY:Fundamental Yoga
DESCRIPTION:
URL:https://www.smhfit.com/event/fundamental-yoga-59/
END:VEVENT
BEGIN:VEVENT
DTSTART;TZID=America/Halifax:20241008T174500
DTEND;TZID=America/Halifax:20241008T183000
DTSTAMP:20260423T232206
CREATED:20240926T155411Z
LAST-MODIFIED:20240926T203710Z
UID:54261-1728409500-1728412200@www.smhfit.com
SUMMARY:SHRED
DESCRIPTION:
URL:https://www.smhfit.com/event/shred-91/
END:VEVENT
BEGIN:VEVENT
DTSTART;TZID=America/Halifax:20241008T180000
DTEND;TZID=America/Halifax:20241008T190000
DTSTAMP:20260423T232206
CREATED:20240926T155410Z
LAST-MODIFIED:20240926T203709Z
UID:54260-1728410400-1728414000@www.smhfit.com
SUMMARY:Aqua Tone
DESCRIPTION:Aquatic Class
URL:https://www.smhfit.com/event/aqua-tone-134/
END:VEVENT
END:VCALENDAR